BEGIN:VCALENDAR
VERSION:2.0
PRODID:-//Circolo Tennis Carpena - ECPv5.9.2//NONSGML v1.0//EN
CALSCALE:GREGORIAN
METHOD:PUBLISH
X-WR-CALNAME:Circolo Tennis Carpena
X-ORIGINAL-URL:https://tenniscarpena.com
X-WR-CALDESC:Eventi per Circolo Tennis Carpena
BEGIN:VTIMEZONE
TZID:UTC
BEGIN:STANDARD
TZOFFSETFROM:+0000
TZOFFSETTO:+0000
TZNAME:UTC
DTSTART:20220101T000000
END:STANDARD
END:VTIMEZONE
BEGIN:VEVENT
DTSTART;TZID=UTC:20221106T120000
DTEND;TZID=UTC:20221106T153000
DTSTAMP:20260419T121706
CREATED:20221102T151133Z
LAST-MODIFIED:20221102T151148Z
UID:1184-1667736000-1667748600@tenniscarpena.com
SUMMARY:Sunday Jazz Brunch
DESCRIPTION:Domenica 6 Novembre un Brunch ritmato con la musica Jazz di Simone Zanchini (𝘧𝘪𝘴𝘢𝘳𝘮𝘰𝘯𝘪𝘤𝘢) e Stefano Bedetti (𝘴𝘢𝘹)\, in collaborazione con Italia Jazz Club.\n\nIl Ristorante Sanderry propone un gustosissimo menù:\nFʟᴀɴ ᴀʟʟᴏ sᴏ̨ᴜᴀᴄᴏ̨ᴜᴇʀᴏɴᴇ ᴄᴏɴ ғɪᴄᴏ ᴄᴀʀᴀᴍᴇʟʟᴀᴛᴏ\nCʀᴏsᴛᴏɴᴇ ᴀʟʟᴀ ᴢᴜᴄᴄᴀ ᴀʀʀᴏsᴛɪᴛᴀ ᴄᴏɴ ғᴏɴᴅᴜᴛᴀ ᴅɪ Fᴏɴᴛɪɴᴀ\nIɴsᴀʟᴀᴛɪɴᴀ ᴅɪ ᴄᴏɴɪɢʟɪᴏ ɪɴ ᴘᴏʀᴄʜᴇᴛᴛᴀ\nTᴏʀᴛᴇʟʟɪ ᴀʟʟᴇ ᴘᴇʀᴇ ᴄᴏɴ ғᴏʀᴍᴀɢɢɪᴏ ᴘᴇᴄᴏʀɪɴᴏ\nTᴏʀᴛᴀ ʙʀɪsᴏʟᴏɴᴀ ᴀʟʟᴀ ᴄʀᴇᴍᴀ\nVɪɴᴏ Sᴀɴɢɪᴏᴠᴇsᴇ Sᴜᴘᴇʀɪᴏʀᴇ Sᴀɴᴅᴇʀʀʏ\nMᴏsᴄᴀᴛᴏ Aʀɪᴏɴᴇ\n\n𝗕𝗿𝘂𝗻𝗰𝗵 𝗲 𝗰𝗼𝗻𝗰𝗲𝗿𝘁𝗼 𝗘𝘂𝗿𝗼 𝟯𝟱.𝟬𝟬\n\n Info e prenotazioni\n340 5988630 – 0543.402344\n> Possibilità per i Soci di estendere l’invito.
URL:https://tenniscarpena.com/evento/1184/
CATEGORIES:Ludico ricreativi
ATTACH;FMTTYPE=image/png:https://tenniscarpena.com/wp-content/uploads/2022/11/Eventi-Sito-Circolo-copia.png
END:VEVENT
END:VCALENDAR