BEGIN:VCALENDAR
VERSION:2.0
PRODID:-//Circolo Tennis Carpena - ECPv5.9.2//NONSGML v1.0//EN
CALSCALE:GREGORIAN
METHOD:PUBLISH
X-WR-CALNAME:Circolo Tennis Carpena
X-ORIGINAL-URL:https://tenniscarpena.com
X-WR-CALDESC:Eventi per Circolo Tennis Carpena
BEGIN:VTIMEZONE
TZID:UTC
BEGIN:STANDARD
TZOFFSETFROM:+0000
TZOFFSETTO:+0000
TZNAME:UTC
DTSTART:20220101T000000
END:STANDARD
END:VTIMEZONE
BEGIN:VEVENT
DTSTART;TZID=UTC:20220821T193000
DTEND;TZID=UTC:20220821T233000
DTSTAMP:20260419T122102
CREATED:20220829T140248Z
LAST-MODIFIED:20220830T134629Z
UID:1108-1661110200-1661124600@tenniscarpena.com
SUMMARY:Apericena-video musicali
DESCRIPTION:Domenica 21 Agosto dalle ore 19:30 sul nostro schermo in zona piscina una selezione dei migliori video musicali\, il tutto accompagnato da gustoso apericena con proposta gastronomica.\nVi aspettiamo! \n> Info e prenotazioni 340 5988630 – 0543.402344\n> Possibilità per i Soci di estendere l ‘invito per la serata
URL:https://tenniscarpena.com/evento/apericena-video-musicali/
CATEGORIES:Ludico ricreativi
ATTACH;FMTTYPE=image/png:https://tenniscarpena.com/wp-content/uploads/2022/08/21-agosto.png
END:VEVENT
END:VCALENDAR