BEGIN:VCALENDAR
VERSION:2.0
PRODID:-//Circolo Tennis Carpena - ECPv5.9.2//NONSGML v1.0//EN
CALSCALE:GREGORIAN
METHOD:PUBLISH
X-WR-CALNAME:Circolo Tennis Carpena
X-ORIGINAL-URL:https://tenniscarpena.com
X-WR-CALDESC:Eventi per Circolo Tennis Carpena
BEGIN:VTIMEZONE
TZID:UTC
BEGIN:STANDARD
TZOFFSETFROM:+0000
TZOFFSETTO:+0000
TZNAME:UTC
DTSTART:20250101T000000
END:STANDARD
END:VTIMEZONE
BEGIN:VEVENT
DTSTART;TZID=UTC:20250727T183000
DTEND;TZID=UTC:20250727T183000
DTSTAMP:20260419T123208
CREATED:20250716T093042Z
LAST-MODIFIED:20250716T093238Z
UID:1606-1753641000-1753641000@tenniscarpena.com
SUMMARY:Apericena bordo piscina con musica live
DESCRIPTION:Domenica 27 luglio si canta e si brinda! \nVi aspettiamo dalle ore 18:30 con un ricco apericena bordo piscina e “Mirko The Voice” pronto a farvi cantare e divertire! \n> Possibilità per i soci di estendere l’invito \nNon mancate!
URL:https://tenniscarpena.com/evento/aperitivo-bordo-piscina-con-musica-live-3/
CATEGORIES:Ludico ricreativi
ATTACH;FMTTYPE=image/png:https://tenniscarpena.com/wp-content/uploads/2025/07/2.png
END:VEVENT
END:VCALENDAR