BEGIN:VCALENDAR
VERSION:2.0
PRODID:-//Circolo Tennis Carpena - ECPv5.9.2//NONSGML v1.0//EN
CALSCALE:GREGORIAN
METHOD:PUBLISH
X-WR-CALNAME:Circolo Tennis Carpena
X-ORIGINAL-URL:https://tenniscarpena.com
X-WR-CALDESC:Eventi per Circolo Tennis Carpena
BEGIN:VTIMEZONE
TZID:UTC
BEGIN:STANDARD
TZOFFSETFROM:+0000
TZOFFSETTO:+0000
TZNAME:UTC
DTSTART:20230101T000000
END:STANDARD
END:VTIMEZONE
BEGIN:VEVENT
DTSTART;TZID=UTC:20230421T200000
DTEND;TZID=UTC:20230421T233000
DTSTAMP:20260419T122648
CREATED:20230420T120941Z
LAST-MODIFIED:20230420T120941Z
UID:1295-1682107200-1682119800@tenniscarpena.com
SUMMARY:Aspettando l'estate
DESCRIPTION:
URL:https://tenniscarpena.com/evento/aspettando-lestate/
CATEGORIES:Ludico ricreativi
ATTACH;FMTTYPE=image/jpeg:https://tenniscarpena.com/wp-content/uploads/2023/04/WhatsApp-Image-2023-04-20-at-10.45.50.jpeg
END:VEVENT
END:VCALENDAR