BEGIN:VCALENDAR
VERSION:2.0
PRODID:-//Circolo Tennis Carpena - ECPv5.9.2//NONSGML v1.0//EN
CALSCALE:GREGORIAN
METHOD:PUBLISH
X-WR-CALNAME:Circolo Tennis Carpena
X-ORIGINAL-URL:https://tenniscarpena.com
X-WR-CALDESC:Eventi per Circolo Tennis Carpena
BEGIN:VTIMEZONE
TZID:UTC
BEGIN:STANDARD
TZOFFSETFROM:+0000
TZOFFSETTO:+0000
TZNAME:UTC
DTSTART:20250101T000000
END:STANDARD
END:VTIMEZONE
BEGIN:VEVENT
DTSTART;TZID=UTC:20250629T080000
DTEND;TZID=UTC:20250629T080000
DTSTAMP:20260419T121926
CREATED:20250618T173214Z
LAST-MODIFIED:20250618T173214Z
UID:1565-1751184000-1751184000@tenniscarpena.com
SUMMARY:Burraco al risveglio
DESCRIPTION:Domenica 29 Giugno alle ore 08:00 vi aspettiamo per una mattinata in allegria tra carte\, chiacchiere e profumo di caffè. \n\n\n\nColazione offerta dal Circolo \nINFO E PRENOTAZIONI O543 480072 \n\n\n\n\nISCRIZIONI € 15\,00 (a favore di AIL) \n\n\n\n\nSTRETTAMENTE SOCIALE \n\n\n\n 
URL:https://tenniscarpena.com/evento/burraco-al-risveglio/
CATEGORIES:Ludico ricreativi
ATTACH;FMTTYPE=image/png:https://tenniscarpena.com/wp-content/uploads/2025/06/1.png
END:VEVENT
END:VCALENDAR