BEGIN:VCALENDAR
VERSION:2.0
PRODID:-//Circolo Tennis Carpena - ECPv5.9.2//NONSGML v1.0//EN
CALSCALE:GREGORIAN
METHOD:PUBLISH
X-WR-CALNAME:Circolo Tennis Carpena
X-ORIGINAL-URL:https://tenniscarpena.com
X-WR-CALDESC:Eventi per Circolo Tennis Carpena
BEGIN:VTIMEZONE
TZID:UTC
BEGIN:STANDARD
TZOFFSETFROM:+0000
TZOFFSETTO:+0000
TZNAME:UTC
DTSTART:20240101T000000
END:STANDARD
END:VTIMEZONE
BEGIN:VEVENT
DTSTART;TZID=UTC:20240815T170000
DTEND;TZID=UTC:20240815T170000
DTSTAMP:20260419T122101
CREATED:20240731T104126Z
LAST-MODIFIED:20240731T104126Z
UID:1474-1723741200-1723741200@tenniscarpena.com
SUMMARY:Burraco di Ferragosto
DESCRIPTION:Appuntamento Giovedì 15 Agosto a partire dalle ore 17:00 per il Burraco di Ferragosto. \nIntermezzo (dopo due manches) con un appetitoso spuntino di ferragosto.\n\nPremi alle prime tre coppie classificate \n> Prenotazioni in Segreteria (0543.480072) entro martedì 13 Agosto. \n\n> Strettamente sociale
URL:https://tenniscarpena.com/evento/burraco-di-ferragosto/
CATEGORIES:Ludico ricreativi
ATTACH;FMTTYPE=image/png:https://tenniscarpena.com/wp-content/uploads/2024/07/Eventi-Sito-Circolo-9.png
END:VEVENT
END:VCALENDAR