BEGIN:VCALENDAR
VERSION:2.0
PRODID:-//Circolo Tennis Carpena - ECPv5.9.2//NONSGML v1.0//EN
CALSCALE:GREGORIAN
METHOD:PUBLISH
X-WR-CALNAME:Circolo Tennis Carpena
X-ORIGINAL-URL:https://tenniscarpena.com
X-WR-CALDESC:Eventi per Circolo Tennis Carpena
BEGIN:VTIMEZONE
TZID:UTC
BEGIN:STANDARD
TZOFFSETFROM:+0000
TZOFFSETTO:+0000
TZNAME:UTC
DTSTART:20230101T000000
END:STANDARD
END:VTIMEZONE
BEGIN:VEVENT
DTSTART;TZID=UTC:20230623T080000
DTEND;TZID=UTC:20230623T170000
DTSTAMP:20260419T122301
CREATED:20230623T080117Z
LAST-MODIFIED:20230623T080237Z
UID:1323-1687507200-1687539600@tenniscarpena.com
SUMMARY:Campionato di Burraco "Open Tour"
DESCRIPTION:Da giovedì 29 Giugno ore 20:45 ha inizio il Campionato di Burraco “Open Tour”. \nSono previste 3 tappe (giugno-luglio-agosto) e il gran finale si terrà giovedì 7 settembre (con premio speciale). \nLe coppie possono essere formare da 2 soci o da 1 socio e 1 invitato. \nPremi ai primi 3 classificati di ogni tappa. \nIscrizioni in Segreteria (Euro 5\,00 a persona) \n  \n  \n 
URL:https://tenniscarpena.com/evento/campionato-di-burraco-open-tour/
CATEGORIES:Ludico ricreativi
ATTACH;FMTTYPE=image/png:https://tenniscarpena.com/wp-content/uploads/2023/06/Eventi-Sito-Circolo-1.png
END:VEVENT
END:VCALENDAR