BEGIN:VCALENDAR
VERSION:2.0
PRODID:-//Circolo Tennis Carpena - ECPv5.9.2//NONSGML v1.0//EN
CALSCALE:GREGORIAN
METHOD:PUBLISH
X-WR-CALNAME:Circolo Tennis Carpena
X-ORIGINAL-URL:https://tenniscarpena.com
X-WR-CALDESC:Eventi per Circolo Tennis Carpena
BEGIN:VTIMEZONE
TZID:UTC
BEGIN:STANDARD
TZOFFSETFROM:+0000
TZOFFSETTO:+0000
TZNAME:UTC
DTSTART:20220101T000000
END:STANDARD
END:VTIMEZONE
BEGIN:VEVENT
DTSTART;TZID=UTC:20221217T200000
DTEND;TZID=UTC:20221217T233000
DTSTAMP:20260419T121927
CREATED:20221207T134758Z
LAST-MODIFIED:20221207T134946Z
UID:1223-1671307200-1671319800@tenniscarpena.com
SUMMARY:Cena degli Auguri
DESCRIPTION:Cari Soci anche quest’anno torna l’appuntamento con la tradizionale cena per scambiarci gli auguri. \nIl Ristorante Sanderry propone: \nEɴᴛʀᴇᴇ ᴅɪ ᴄʀᴇᴍᴀ ᴅɪ ᴠᴇʀᴅᴜʀᴇ ɪɴᴠᴇʀɴᴀʟɪ ᴇ ʙɪɢɴᴏʟᴇᴛᴛᴇ\nSᴏᴜғғʟᴇ̀ ᴅɪ Tᴏᴘɪɴᴀᴍʙᴜʀ ᴄᴏɴ ᴄʀᴇᴍᴀ ᴅɪ Cᴀsᴛᴇʟᴍᴀɢɴᴏ ᴇ ᴄᴀʀᴄɪᴏғᴏ ғʀɪᴛᴛᴏ\nLᴀsᴀɢɴᴇᴛᴛᴇ ᴅɪ Cᴀʀᴅɪ ᴇ sᴀʟsɪᴄᴄɪᴀ ᴄʀᴏᴄᴄᴀɴᴛᴇ\nCᴏɴɪɢʟɪᴏ ғᴀʀᴄɪᴛᴏ ᴀʟʟᴇ ᴄᴀsᴛᴀɢɴᴇ ᴄᴏɴ ᴍᴇʟᴇ\, ᴢᴜᴄᴄᴀ ᴇ ᴘᴀᴛᴀᴛᴇ\nTᴏʀᴛᴀ ᴅᴇɢʟɪ Aᴜɢᴜʀɪ\nVɪɴᴏ Sᴀɴɢɪᴏᴠᴇsᴇ Fɪᴄᴏ Gʀᴀɴᴅᴇ – Pᴏᴅᴇʀɪ ᴅᴀʟ Nᴇsᴘᴏʟɪ \nEᴜʀᴏ 35\,00 \nAccompagnamento musicale con le voci delle Surprise Christmas \nPer la serata è richiesto dress code elegante \nNon mancate! \n\n Per info e prenotazioni 340 5988630 – 0543.402344
URL:https://tenniscarpena.com/evento/cena-degli-auguri/
CATEGORIES:Ludico ricreativi
ATTACH;FMTTYPE=image/png:https://tenniscarpena.com/wp-content/uploads/2022/12/Eventi-Sito-Circolo-2-1.png
END:VEVENT
END:VCALENDAR