BEGIN:VCALENDAR
VERSION:2.0
PRODID:-//Circolo Tennis Carpena - ECPv5.9.2//NONSGML v1.0//EN
CALSCALE:GREGORIAN
METHOD:PUBLISH
X-WR-CALNAME:Circolo Tennis Carpena
X-ORIGINAL-URL:https://tenniscarpena.com
X-WR-CALDESC:Eventi per Circolo Tennis Carpena
BEGIN:VTIMEZONE
TZID:UTC
BEGIN:STANDARD
TZOFFSETFROM:+0000
TZOFFSETTO:+0000
TZNAME:UTC
DTSTART:20230101T000000
END:STANDARD
END:VTIMEZONE
BEGIN:VEVENT
DTSTART;TZID=UTC:20230221T193000
DTEND;TZID=UTC:20230221T233000
DTSTAMP:20260419T121949
CREATED:20230206T130240Z
LAST-MODIFIED:20230206T130240Z
UID:1253-1677007800-1677022200@tenniscarpena.com
SUMMARY:Cena di beneficenza
DESCRIPTION:Martedì 21 Febbraio il nostro Circolo Tennis organizza una Cena di beneficenza in collaborazione con \nGrande Giù for love and Care Onlus\, UO di Ematologia dell Ospedale Santa Maria delle Croci\, Ail Ravenna \nDurante l’evento verrà presentato un percorso di umanizzazione delle cure onco-ematologiche che includerà anche lo sport e presentato il libro “Benessere condiviso” a cura di Giuliana Gemelli e Francesco Lanza. \nSarà  presente anche l’ Assessore allo Sport del Comune di Forli. \nEuro 40\,00 \nSiete caldamente invitati. \nPer conferma: 340 5988630 – 0543.402344
URL:https://tenniscarpena.com/evento/cena-di-beneficenza/
CATEGORIES:Ludico ricreativi
ATTACH;FMTTYPE=image/png:https://tenniscarpena.com/wp-content/uploads/2023/02/Eventi-Sito-Circolo-4.png
END:VEVENT
END:VCALENDAR