BEGIN:VCALENDAR
VERSION:2.0
PRODID:-//Circolo Tennis Carpena - ECPv5.9.2//NONSGML v1.0//EN
CALSCALE:GREGORIAN
METHOD:PUBLISH
X-WR-CALNAME:Circolo Tennis Carpena
X-ORIGINAL-URL:https://tenniscarpena.com
X-WR-CALDESC:Eventi per Circolo Tennis Carpena
BEGIN:VTIMEZONE
TZID:UTC
BEGIN:STANDARD
TZOFFSETFROM:+0000
TZOFFSETTO:+0000
TZNAME:UTC
DTSTART:20250101T000000
END:STANDARD
END:VTIMEZONE
BEGIN:VEVENT
DTSTART;TZID=UTC:20250806T210000
DTEND;TZID=UTC:20250806T210000
DTSTAMP:20260419T123413
CREATED:20250730T102034Z
LAST-MODIFIED:20250730T102352Z
UID:1621-1754514000-1754514000@tenniscarpena.com
SUMMARY:Cinema sotto le stelle - "10 giorni con i suoi"
DESCRIPTION:Appuntamento con il “Cinema sotto le stelle” nell’Arena di Carpena. \n\n10 GIORNI CON I SUOI \n\nQuando la figlia decide di trasferirsi con il fidanzato in Puglia per frequentare l’università\, Carlo\, Giulia e gli altri due figli la raggiungono. Qui\, Carlo non perde occasione per rendersi un ospite poco gradito. \n\nRegia di Alessandro Genovesi\nCast: Fabio De Luigi\, Valentina Lodovini\, Angelica Elli\, Bianca Usai\, Matteo Castellucci \nPrima della proiezione \nPiatto di pasta + 1 calice di vino Euro 10\,00 \n> Sono ammessi inviti \n 
URL:https://tenniscarpena.com/evento/cinema-sotto-le-stelle-10-giorni-con-i-suoi/
CATEGORIES:Ludico ricreativi
ATTACH;FMTTYPE=image/png:https://tenniscarpena.com/wp-content/uploads/2025/07/4-1.png
END:VEVENT
END:VCALENDAR