BEGIN:VCALENDAR
VERSION:2.0
PRODID:-//Circolo Tennis Carpena - ECPv5.9.2//NONSGML v1.0//EN
CALSCALE:GREGORIAN
METHOD:PUBLISH
X-WR-CALNAME:Circolo Tennis Carpena
X-ORIGINAL-URL:https://tenniscarpena.com
X-WR-CALDESC:Eventi per Circolo Tennis Carpena
BEGIN:VTIMEZONE
TZID:UTC
BEGIN:STANDARD
TZOFFSETFROM:+0000
TZOFFSETTO:+0000
TZNAME:UTC
DTSTART:20240101T000000
END:STANDARD
END:VTIMEZONE
BEGIN:VEVENT
DTSTART;TZID=UTC:20240703T210000
DTEND;TZID=UTC:20240703T233000
DTSTAMP:20260419T123016
CREATED:20240626T074723Z
LAST-MODIFIED:20240724T153458Z
UID:1418-1720040400-1720049400@tenniscarpena.com
SUMMARY:Cinema sotto le stelle - "L'ULTIMA NOTTE DI AMORE"
DESCRIPTION:Il fascino del grande schermo all’aperto\, sotto il cielo stellato. \nQuesta sera ti aspettiamo per la proiezione del film \nL’ULTIMA NOTTE DI AMORE \nAd un giorno dal suo pensionamento\, la vita del poliziotto Franco Amore cambia per sempre. Durante la sua ultima di servizio\, infatti\, il suo amico Dino\, nonché suo partner da diversi anni\, rimane ucciso in una rapina di diamanti. \n\nRegia di Andrea Di Stefano \n 
URL:https://tenniscarpena.com/evento/cinema-sotto-le-stelle-2/
CATEGORIES:Ludico ricreativi
ATTACH;FMTTYPE=image/png:https://tenniscarpena.com/wp-content/uploads/2024/06/3.png
END:VEVENT
END:VCALENDAR