BEGIN:VCALENDAR
VERSION:2.0
PRODID:-//Circolo Tennis Carpena - ECPv5.9.2//NONSGML v1.0//EN
CALSCALE:GREGORIAN
METHOD:PUBLISH
X-WR-CALNAME:Circolo Tennis Carpena
X-ORIGINAL-URL:https://tenniscarpena.com
X-WR-CALDESC:Eventi per Circolo Tennis Carpena
BEGIN:VTIMEZONE
TZID:UTC
BEGIN:STANDARD
TZOFFSETFROM:+0000
TZOFFSETTO:+0000
TZNAME:UTC
DTSTART:20240101T000000
END:STANDARD
END:VTIMEZONE
BEGIN:VEVENT
DTSTART;TZID=UTC:20240710T210000
DTEND;TZID=UTC:20240710T233000
DTSTAMP:20260419T122303
CREATED:20240626T074936Z
LAST-MODIFIED:20240724T153431Z
UID:1420-1720645200-1720654200@tenniscarpena.com
SUMMARY:Cinema sotto le stelle - "50 KM ALL'ORA"
DESCRIPTION:Non perderti una serata indimenticabile al Cinema sotto le stelle nell’Arena di Carpena! \nQuesta sera ti aspettiamo per la proiezione del film \n50 KM ALL’ORA \nIl timido Rocco e il chiassoso Guido sono fratelli ma non si parlano da quando il primo ha lasciato casa per girare il mondo sulle navi da crociera. La morte del padre Corrado li costringe però a riunirsi per soddisfare le sue ultime volontà. \n\nRegia di Fabio De Luigi
URL:https://tenniscarpena.com/evento/cinema-sotto-le-stelle-3/
CATEGORIES:Ludico ricreativi
ATTACH;FMTTYPE=image/png:https://tenniscarpena.com/wp-content/uploads/2024/06/4.png
END:VEVENT
END:VCALENDAR