BEGIN:VCALENDAR
VERSION:2.0
PRODID:-//Circolo Tennis Carpena - ECPv5.9.2//NONSGML v1.0//EN
CALSCALE:GREGORIAN
METHOD:PUBLISH
X-WR-CALNAME:Circolo Tennis Carpena
X-ORIGINAL-URL:https://tenniscarpena.com
X-WR-CALDESC:Eventi per Circolo Tennis Carpena
BEGIN:VTIMEZONE
TZID:UTC
BEGIN:STANDARD
TZOFFSETFROM:+0000
TZOFFSETTO:+0000
TZNAME:UTC
DTSTART:20240101T000000
END:STANDARD
END:VTIMEZONE
BEGIN:VEVENT
DTSTART;TZID=UTC:20240717T210000
DTEND;TZID=UTC:20240717T233000
DTSTAMP:20260419T122302
CREATED:20240709T102602Z
LAST-MODIFIED:20240724T153413Z
UID:1423-1721250000-1721259000@tenniscarpena.com
SUMMARY:Cinema sotto le stelle - "CHALLANGERS"
DESCRIPTION:Appuntamento con il “Cinema sotto le stelle” nell’Arena di Carpena. \nCHALLANGERS \nTashi deve abbandonare il campo e rimane nel mondo del tennis come allenatrice di suo marito\, Art. Dopo alcune vittorie\, Tashi iscriv il marito Art al Challenger Tour\, dove il destino vuole che si scontri con Patrick\, ex fidanzato di Tashi. \n\nRegia di Luca Guadagnino \n 
URL:https://tenniscarpena.com/evento/cinema-sotto-le-stelle-4/
CATEGORIES:Ludico ricreativi
ATTACH;FMTTYPE=image/png:https://tenniscarpena.com/wp-content/uploads/2024/07/Eventi-Sito-Circolo.png
END:VEVENT
END:VCALENDAR