BEGIN:VCALENDAR
VERSION:2.0
PRODID:-//Circolo Tennis Carpena - ECPv5.9.2//NONSGML v1.0//EN
CALSCALE:GREGORIAN
METHOD:PUBLISH
X-WR-CALNAME:Circolo Tennis Carpena
X-ORIGINAL-URL:https://tenniscarpena.com
X-WR-CALDESC:Eventi per Circolo Tennis Carpena
BEGIN:VTIMEZONE
TZID:UTC
BEGIN:STANDARD
TZOFFSETFROM:+0000
TZOFFSETTO:+0000
TZNAME:UTC
DTSTART:20250101T000000
END:STANDARD
END:VTIMEZONE
BEGIN:VEVENT
DTSTART;TZID=UTC:20250716T210000
DTEND;TZID=UTC:20250716T210000
DTSTAMP:20260419T123326
CREATED:20250708T142854Z
LAST-MODIFIED:20250708T142854Z
UID:1588-1752699600-1752699600@tenniscarpena.com
SUMMARY:Cinema sotto le stelle - "Emilia Perez"
DESCRIPTION:Appuntamento con il “Cinema sotto le stelle” nell’Arena di Carpena. \n\n\n\nEMILIA PEREZ \n\n\n\nRita lavora in uno studio legale più interessato a difendere i criminali che a servire la legge. Per tirare avanti\, aiuta un boss mafioso ad uscire dal giro per poter finalmente diventare la donna che ha sempre sognato di essere. \n\nRegia di Jacques Audiard \nCast: Karla Sofía Gascón\, Zoe Saldana\, Selena Gomez\, Adriana Paz\, Édgar Ramírez\, Mark Ivanir\, Eduardo Aladro\, Gaël Murguia-Fur\, Tirso Rangel Pietriga\, James Gerard \nPrima della proiezione \nPiatto di pasta + 1 calice di vino Euro 10\,00 \n> Sono ammessi inviti \n 
URL:https://tenniscarpena.com/evento/cinema-sotto-le-stelle-emilia-perez/
CATEGORIES:Ludico ricreativi
ATTACH;FMTTYPE=image/png:https://tenniscarpena.com/wp-content/uploads/2025/07/Eventi-Sito-Circolo-1.png
END:VEVENT
END:VCALENDAR