BEGIN:VCALENDAR
VERSION:2.0
PRODID:-//Circolo Tennis Carpena - ECPv5.9.2//NONSGML v1.0//EN
CALSCALE:GREGORIAN
METHOD:PUBLISH
X-WR-CALNAME:Circolo Tennis Carpena
X-ORIGINAL-URL:https://tenniscarpena.com
X-WR-CALDESC:Eventi per Circolo Tennis Carpena
BEGIN:VTIMEZONE
TZID:UTC
BEGIN:STANDARD
TZOFFSETFROM:+0000
TZOFFSETTO:+0000
TZNAME:UTC
DTSTART:20240101T000000
END:STANDARD
END:VTIMEZONE
BEGIN:VEVENT
DTSTART;TZID=UTC:20240807T210000
DTEND;TZID=UTC:20240807T210000
DTSTAMP:20260419T123306
CREATED:20240729T093425Z
LAST-MODIFIED:20240729T093615Z
UID:1464-1723064400-1723064400@tenniscarpena.com
SUMMARY:Cinema sotto le stelle - "FERRARI"
DESCRIPTION:Appuntamento con il “Cinema sotto le stelle” nell’Arena di Carpena. \nFERRARI \nUna biografia del magnate dell’automobile Enzo Ferrari\, la cui famiglia ha ridefinito l’idea di auto sportiva italiana ad alte prestazioni e ha dato vita il concetto di Formula Uno. \n\nRegia di Michael Mann\nCast: Adam Driver\, Shailene Woodley\, Patrick Dempsey\, Penelope Cruz\, Gabriel Leone \nPrima della proiezione\nPiatto di pasta + 1 calice di vino Euro 10\,00 \n 
URL:https://tenniscarpena.com/evento/cinema-sotto-le-stelle-ferrari/
CATEGORIES:Ludico ricreativi
ATTACH;FMTTYPE=image/png:https://tenniscarpena.com/wp-content/uploads/2024/07/Eventi-Sito-Circolo-7.png
END:VEVENT
END:VCALENDAR