BEGIN:VCALENDAR
VERSION:2.0
PRODID:-//Circolo Tennis Carpena - ECPv5.9.2//NONSGML v1.0//EN
CALSCALE:GREGORIAN
METHOD:PUBLISH
X-WR-CALNAME:Circolo Tennis Carpena
X-ORIGINAL-URL:https://tenniscarpena.com
X-WR-CALDESC:Eventi per Circolo Tennis Carpena
BEGIN:VTIMEZONE
TZID:UTC
BEGIN:STANDARD
TZOFFSETFROM:+0000
TZOFFSETTO:+0000
TZNAME:UTC
DTSTART:20250101T000000
END:STANDARD
END:VTIMEZONE
BEGIN:VEVENT
DTSTART;TZID=UTC:20250702T210000
DTEND;TZID=UTC:20250702T210000
DTSTAMP:20260419T124504
CREATED:20250625T134826Z
LAST-MODIFIED:20250707T104148Z
UID:1578-1751490000-1751490000@tenniscarpena.com
SUMMARY:Cinema sotto le stelle - "L'ultima volta che siamo stati bambini"
DESCRIPTION:Appuntamento con il “Cinema sotto le stelle” nell’Arena di Carpena. \nL’ULTIMA VOLTA CHE SIAMO STATI BAMBINI \nNonostante la Seconda Guerra Mondiale\, Vanda\, Italo e Cosimo amano ancora giocare. Quando Riccardo\, il loro amico ebreo\, scompare\, decidono di andare in Germania a liberarlo\, seguendo a piedi i binari ferroviari. \n\nRegia di Claudio Bisio \nCast: Alessio Di Domenicantonio\, Vincenzo Sebastiani\, Carlotta De Leonardis\, Lorenzo McGovern Zaini\, Federico Cesari\, Marianna Fontana\, Antonello Fassari \nPrima della proiezione \nPiatto di pasta + 1 calice di vino Euro 10\,00 \n> Sono ammessi inviti \n 
URL:https://tenniscarpena.com/evento/cinema-sotto-le-stelle-lultima-volta-che-siamo-stati-bambini/
CATEGORIES:Ludico ricreativi
ATTACH;FMTTYPE=image/png:https://tenniscarpena.com/wp-content/uploads/2025/06/Eventi-Sito-Circolo-5.png
END:VEVENT
END:VCALENDAR