BEGIN:VCALENDAR
VERSION:2.0
PRODID:-//Circolo Tennis Carpena - ECPv5.9.2//NONSGML v1.0//EN
CALSCALE:GREGORIAN
METHOD:PUBLISH
X-WR-CALNAME:Circolo Tennis Carpena
X-ORIGINAL-URL:https://tenniscarpena.com
X-WR-CALDESC:Eventi per Circolo Tennis Carpena
BEGIN:VTIMEZONE
TZID:UTC
BEGIN:STANDARD
TZOFFSETFROM:+0000
TZOFFSETTO:+0000
TZNAME:UTC
DTSTART:20250101T000000
END:STANDARD
END:VTIMEZONE
BEGIN:VEVENT
DTSTART;TZID=UTC:20250730T210000
DTEND;TZID=UTC:20250730T210000
DTSTAMP:20260419T124419
CREATED:20250716T092347Z
LAST-MODIFIED:20250716T092347Z
UID:1602-1753909200-1753909200@tenniscarpena.com
SUMMARY:Cinema sotto le stelle - "Matrimonio con sorpresa"
DESCRIPTION:Appuntamento con il “Cinema sotto le stelle” nell’Arena di Carpena. \n\nMATRIMONIO CON SORPRESA \n\nDue giovani provenienti da famiglie molto diverse decidono di sposarsi. I genitori di Alice non sono molto d’accordo e la ragazza decide di sottoporre i quattro futuri consuoceri a un test del DNA. \n\nRegia di Julien Hervé \nCast: Christian Clavier\, Didier Bourdon\, Sylvie Testud\, Marianne Denicourt \nPrima della proiezione \nPiatto di pasta + 1 calice di vino Euro 10\,00 \n> Sono ammessi inviti \n 
URL:https://tenniscarpena.com/evento/cinema-sotto-le-stelle-matrimonio-con-sorpresa/
CATEGORIES:Ludico ricreativi
ATTACH;FMTTYPE=image/png:https://tenniscarpena.com/wp-content/uploads/2025/07/5.png
END:VEVENT
END:VCALENDAR