BEGIN:VCALENDAR
VERSION:2.0
PRODID:-//Circolo Tennis Carpena - ECPv5.9.2//NONSGML v1.0//EN
CALSCALE:GREGORIAN
METHOD:PUBLISH
X-WR-CALNAME:Circolo Tennis Carpena
X-ORIGINAL-URL:https://tenniscarpena.com
X-WR-CALDESC:Eventi per Circolo Tennis Carpena
BEGIN:VTIMEZONE
TZID:UTC
BEGIN:STANDARD
TZOFFSETFROM:+0000
TZOFFSETTO:+0000
TZNAME:UTC
DTSTART:20240101T000000
END:STANDARD
END:VTIMEZONE
BEGIN:VEVENT
DTSTART;TZID=UTC:20240821T210000
DTEND;TZID=UTC:20240821T210000
DTSTAMP:20260419T124430
CREATED:20240730T141510Z
LAST-MODIFIED:20240730T141510Z
UID:1471-1724274000-1724274000@tenniscarpena.com
SUMMARY:Cinema sotto le stelle - "Tutti lo sanno"
DESCRIPTION:Appuntamento con il “Cinema sotto le stelle” nell’Arena di Carpena. \nTUTTI LO SANNO \nLaura vive in Argentina insieme ai suoi due figli. Quando torna in Spagna in occasione del matrimonio della sorella\, un tragico evento riporta a galla antichi rancori e segreti che coinvolgono l’intera famiglia. \n\nRegia di Asghar Farhadi \nCast: Penélope Cruz\, Javier Bardem\, Ricardo Darín\, Eduard Fernández \nPrima della proiezione\nPiatto di pasta + 1 calice di vino Euro 10\,00 \n 
URL:https://tenniscarpena.com/evento/cinema-sotto-le-stelle-tutti-lo-sanno/
CATEGORIES:Ludico ricreativi
ATTACH;FMTTYPE=image/png:https://tenniscarpena.com/wp-content/uploads/2024/07/Eventi-Sito-Circolo-8.png
END:VEVENT
END:VCALENDAR