BEGIN:VCALENDAR
VERSION:2.0
PRODID:-//Circolo Tennis Carpena - ECPv5.9.2//NONSGML v1.0//EN
CALSCALE:GREGORIAN
METHOD:PUBLISH
X-WR-CALNAME:Circolo Tennis Carpena
X-ORIGINAL-URL:https://tenniscarpena.com
X-WR-CALDESC:Eventi per Circolo Tennis Carpena
BEGIN:VTIMEZONE
TZID:UTC
BEGIN:STANDARD
TZOFFSETFROM:+0000
TZOFFSETTO:+0000
TZNAME:UTC
DTSTART:20240101T000000
END:STANDARD
END:VTIMEZONE
BEGIN:VEVENT
DTSTART;TZID=UTC:20240724T211500
DTEND;TZID=UTC:20240724T233000
DTSTAMP:20260419T122309
CREATED:20240718T071814Z
LAST-MODIFIED:20240724T152411Z
UID:1438-1721855700-1721863800@tenniscarpena.com
SUMMARY:Cinema sotto le stelle - "GRAZIE RAGAZZI!"
DESCRIPTION:Appuntamento con il “Cinema sotto le stelle” nell’Arena di Carpena. \nGRAZIE RAGAZZI! \nEsasperato dalla carenza di la.voro\, Antonio\, attore appassionato\, ma spesso disoccupato\, accetta un incarico propostogli da un vecchio amico molto più scaltro di lui. \n\nRegia di Riccardo Milani\nCast: Antonio Albanese\, Sonia Bergamasco\, Liliana Bottone\, Vinicio Marchioni \n\nPrima della proiezione\nPiatto di pasta + 1 calice di vino Euro 10\,00 \n\n 
URL:https://tenniscarpena.com/evento/cinema-sotto-le-stelle/
CATEGORIES:Ludico ricreativi
ATTACH;FMTTYPE=image/png:https://tenniscarpena.com/wp-content/uploads/2024/07/Eventi-Sito-Circolo-4.png
END:VEVENT
END:VCALENDAR