BEGIN:VCALENDAR
VERSION:2.0
PRODID:-//Circolo Tennis Carpena - ECPv5.9.2//NONSGML v1.0//EN
CALSCALE:GREGORIAN
METHOD:PUBLISH
X-WR-CALNAME:Circolo Tennis Carpena
X-ORIGINAL-URL:https://tenniscarpena.com
X-WR-CALDESC:Eventi per Circolo Tennis Carpena
BEGIN:VTIMEZONE
TZID:UTC
BEGIN:STANDARD
TZOFFSETFROM:+0000
TZOFFSETTO:+0000
TZNAME:UTC
DTSTART:20240101T000000
END:STANDARD
END:VTIMEZONE
BEGIN:VEVENT
DTSTART;TZID=UTC:20240718T210000
DTEND;TZID=UTC:20240718T233000
DTSTAMP:20260419T124306
CREATED:20240709T103323Z
LAST-MODIFIED:20240709T103414Z
UID:1426-1721336400-1721345400@tenniscarpena.com
SUMMARY:Dr. Why\, il più divertente gioco a quiz dal vivo!
DESCRIPTION:Giovedì 18 LUGLIO ore 21:00 torna l’appuntamento con Dr. Why\, il più divertente gioco a quiz dal vivo! \nUn gioco interattivo che vi darà  la possibilità di vivere l’emozione dei quiz televisivi.\nIl quizzone si sviluppa in 4 manches. \nOgni squadra dovrà essere composta da minimo 4 concorrenti e 1 capitano (possibilità  di arruolare 1 ospite per squadra). \n👉 Prenotazione della squadra \nSegreteria 0543 480072\nWhatsapp 342.9750199\nE-mail: info@tenniscarpena.it \nVi aspettiamo!
URL:https://tenniscarpena.com/evento/dr-why-il-piu-divertente-gioco-a-quiz-dal-vivo-2/
CATEGORIES:Ludico ricreativi
ATTACH;FMTTYPE=image/png:https://tenniscarpena.com/wp-content/uploads/2024/07/Eventi-Sito-Circolo-1.png
END:VEVENT
END:VCALENDAR