BEGIN:VCALENDAR
VERSION:2.0
PRODID:-//Circolo Tennis Carpena - ECPv5.9.2//NONSGML v1.0//EN
CALSCALE:GREGORIAN
METHOD:PUBLISH
X-WR-CALNAME:Circolo Tennis Carpena
X-ORIGINAL-URL:https://tenniscarpena.com
X-WR-CALDESC:Eventi per Circolo Tennis Carpena
BEGIN:VTIMEZONE
TZID:UTC
BEGIN:STANDARD
TZOFFSETFROM:+0000
TZOFFSETTO:+0000
TZNAME:UTC
DTSTART:20220101T000000
END:STANDARD
END:VTIMEZONE
BEGIN:VEVENT
DTSTART;TZID=UTC:20220823T210000
DTEND;TZID=UTC:20220823T233000
DTSTAMP:20260419T121706
CREATED:20220829T140147Z
LAST-MODIFIED:20220829T140319Z
UID:1106-1661288400-1661297400@tenniscarpena.com
SUMMARY:Dr. Why
DESCRIPTION:Pronti a divertirvi?\nArriva Dr. Why\, il più divertente gioco a Quiz dal vivo!\nUn gioco interattivo che vi darà la possibilità di vivere l’emozione dei quiz televisivi. \nVi aspettiamo alle ore 21:00… invitate anche i vostri amici!\nNon mancate!
URL:https://tenniscarpena.com/evento/dr-why/
CATEGORIES:Ludico ricreativi
ATTACH;FMTTYPE=image/png:https://tenniscarpena.com/wp-content/uploads/2022/08/23-agosto.png
END:VEVENT
END:VCALENDAR