BEGIN:VCALENDAR
VERSION:2.0
PRODID:-//Circolo Tennis Carpena - ECPv5.9.2//NONSGML v1.0//EN
CALSCALE:GREGORIAN
METHOD:PUBLISH
X-WR-CALNAME:Circolo Tennis Carpena
X-ORIGINAL-URL:https://tenniscarpena.com
X-WR-CALDESC:Eventi per Circolo Tennis Carpena
BEGIN:VTIMEZONE
TZID:UTC
BEGIN:STANDARD
TZOFFSETFROM:+0000
TZOFFSETTO:+0000
TZNAME:UTC
DTSTART:20230101T000000
END:STANDARD
END:VTIMEZONE
BEGIN:VEVENT
DTSTART;TZID=UTC:20230308T200000
DTEND;TZID=UTC:20230308T233000
DTSTAMP:20260419T121859
CREATED:20230313T112147Z
LAST-MODIFIED:20230313T112405Z
UID:1260-1678305600-1678318200@tenniscarpena.com
SUMMARY:Festa della Donna
DESCRIPTION:
URL:https://tenniscarpena.com/evento/festa-della-donna/
CATEGORIES:Ludico ricreativi
ATTACH;FMTTYPE=image/jpeg:https://tenniscarpena.com/wp-content/uploads/2023/03/0373b8e9-f96d-4716-ae04-70356f3e47c8.jpg
END:VEVENT
END:VCALENDAR