BEGIN:VCALENDAR
VERSION:2.0
PRODID:-//Circolo Tennis Carpena - ECPv5.9.2//NONSGML v1.0//EN
CALSCALE:GREGORIAN
METHOD:PUBLISH
X-WR-CALNAME:Circolo Tennis Carpena
X-ORIGINAL-URL:https://tenniscarpena.com
X-WR-CALDESC:Eventi per Circolo Tennis Carpena
BEGIN:VTIMEZONE
TZID:UTC
BEGIN:STANDARD
TZOFFSETFROM:+0000
TZOFFSETTO:+0000
TZNAME:UTC
DTSTART:20240101T000000
END:STANDARD
END:VTIMEZONE
BEGIN:VEVENT
DTSTART;TZID=UTC:20241004T200000
DTEND;TZID=UTC:20241004T233000
DTSTAMP:20260419T122820
CREATED:20240930T083241Z
LAST-MODIFIED:20240930T083324Z
UID:1490-1728072000-1728084600@tenniscarpena.com
SUMMARY:Festa di Autunno
DESCRIPTION:Salutiamo l’autunno con la musica dei Brillanti Sparsi. \nIl Ristorante Sanderry propone: \nInsalata di mare scomposta con\nGamberi in gelatina di Mojito\nPolipo con pesto ai pomodori secchi\nSeppia con maionese al passion fruit \nLasagnette alla pescatora \nGrigliata con sardoncini\, spiedini di gamberi e calamari \nSorbetto al mango\nAcqua\n€ 30\,00 vino escluso \nPossibilità di cenare anche alla carta \n> Prenotazioni 0543. 402344\n> Possibilità di estendere l’invito
URL:https://tenniscarpena.com/evento/festa-di-autunno/
CATEGORIES:Ludico ricreativi
ATTACH;FMTTYPE=image/png:https://tenniscarpena.com/wp-content/uploads/2024/09/Eventi-Sito-Circolo.png
END:VEVENT
END:VCALENDAR