BEGIN:VCALENDAR
VERSION:2.0
PRODID:-//Circolo Tennis Carpena - ECPv5.9.2//NONSGML v1.0//EN
CALSCALE:GREGORIAN
METHOD:PUBLISH
X-WR-CALNAME:Circolo Tennis Carpena
X-ORIGINAL-URL:https://tenniscarpena.com
X-WR-CALDESC:Eventi per Circolo Tennis Carpena
BEGIN:VTIMEZONE
TZID:UTC
BEGIN:STANDARD
TZOFFSETFROM:+0000
TZOFFSETTO:+0000
TZNAME:UTC
DTSTART:20230101T000000
END:STANDARD
END:VTIMEZONE
BEGIN:VEVENT
DTSTART;TZID=UTC:20231231T210000
DTEND;TZID=UTC:20240101T010000
DTSTAMP:20260419T122836
CREATED:20231212T202716Z
LAST-MODIFIED:20231212T202833Z
UID:1387-1704056400-1704070800@tenniscarpena.com
SUMMARY:Festa di Capodanno
DESCRIPTION:Non hai ancora deciso come trascorrere l’ultimo dell’anno?\n\nAspettiamo insieme il 2024 !  \n\n\nIl Ristorante Sanderry propone: \n\n\nTʀᴀɴᴄᴇᴛᴛᴏ ᴅɪ ᴛᴏɴɴᴏ sᴜ ᴍᴀɴᴛᴇᴄᴀᴛᴏ ᴅɪ sᴇᴅᴀɴᴏ ʀᴀᴘᴀ ᴇ ᴍɪʀᴇᴘᴏɪx ᴅɪ ᴠᴇʀᴅᴜʀᴇ\nTʀɪᴀɴɢᴏʟɪ ᴅɪ ғɪʟʟᴏ ᴄʀᴏᴄᴄᴀɴᴛɪ ᴀʟʟᴇ ᴄᴀsᴛᴀɢɴᴇ sᴜ sᴘɪɴᴀᴄɪɴɪ ᴇ Cᴀsᴛᴇʟᴍᴀɢɴᴏ\nRɪsᴏᴛᴛᴏ ᴀʟ ғʀᴀɴᴄɪᴀᴄᴏʀᴛᴀ ᴇ ᴛᴀʀᴛᴀʀᴇ ᴅɪ Gᴀᴍʙᴇʀɪ ʀᴏssɪ ᴅɪ Mᴀᴢᴀʀᴀ ᴀɢʟɪ ᴀɢʀᴜᴍɪ\nRᴏsᴇᴛᴛᴀ ɢʀᴀᴛɪɴᴀᴛᴀ ᴀʟ ʀᴀɢᴜ̀ ʙɪᴀɴᴄᴏ ᴅɪ ᴠɪᴛᴇʟʟᴏ ᴇ ᴄᴀʀᴄɪᴏғɪ ᴄʀᴏᴄᴄᴀɴᴛɪ\nSᴘᴀʟʟᴀ ᴅɪ ᴠɪᴛᴇʟʟᴏ ɪɴ ᴄʀᴏsᴛᴀ ᴄᴏɴ ᴘᴀᴛᴀᴛᴇ ғᴏɴᴅᴇɴᴛɪ ᴇ ᴄᴀʀᴅᴏ ᴅᴏʀᴀᴛᴏ ᴀʟ ʟɪᴍᴇ ᴇ ᴘᴇᴘᴇ ʀᴏsᴀ\nCᴏᴛᴇᴄʜɪɴᴏ ᴄᴏɴ ʟᴇɴᴛɪᴄᴄʜɪᴇ\nTᴏʀᴛᴀ ᴜᴠᴀ ᴇ ᴍᴀɴᴅᴀʀɪɴɪ ᴅᴇʟ ʙᴜᴏɴ ᴀɴɴᴏ\nVɪɴᴏ Sᴀɴɢɪᴏᴠᴇsᴇ Sᴜᴘᴇʀɪᴏʀᴇ Fɪᴄᴏ Gʀᴀɴᴅᴇ\nVɪɴᴏ Bɪᴀɴᴄᴏ Bɪᴏ Gᴏʀɢᴏ Sᴀɴ Mɪᴄʜᴇʟɪɴ\nBʀɪɴᴅɪsɪ ᴄᴏɴ Cᴀᴠᴀ Eᴜᴅᴀʟᴅ Mᴀssᴀɴᴀ \nEᴜʀᴏ 65\,00 (sᴏᴄɪ)\nEᴜʀᴏ 80\,00 (ɴᴏɴ sᴏᴄɪ) \n\nPer chi non gradisse il pesce\,\,\,\n\nTʀᴀɴᴄᴇᴛᴛᴏ ᴅɪ ғɪʟᴇᴛᴛᴏ ᴅɪ ᴍᴀɪᴀʟɪɴᴏ sᴜ ᴍᴀɴᴛᴇᴄᴀᴛᴏ ᴅɪ sᴇᴅᴀɴᴏ ʀᴀᴘᴀ ᴇ ᴍɪʀᴇᴘᴏɪx ᴅɪ ᴠᴇʀᴅᴜʀᴇ\nRɪsᴏᴛᴛᴏ ᴀʟ Fᴏssᴀ ᴄᴏɴ ᴄᴀʀᴅᴏ ᴇ sᴀʟsɪᴄᴄɪᴀ \nMenù Bimbi\nSᴛʀᴏᴢᴢᴀᴘʀᴇᴛɪ ᴘᴀsᴛɪᴄᴄɪᴀᴛɪ ᴏ ᴀʟ ᴘᴏᴍᴏᴅᴏʀᴏ\nHᴀᴍʙᴜʀɢᴇʀ ᴄᴏɴ ᴘᴀᴛᴀᴛɪɴᴇ\nTᴏʀᴛᴀ \nEᴜʀᴏ 25\,00 \nAd accompagnare la serata la musica live dei Pushovers. \n \nInfo e prenotazioni\n340 5988630 – 0543.402344
URL:https://tenniscarpena.com/evento/festa-di-capodanno-2/
ATTACH;FMTTYPE=image/png:https://tenniscarpena.com/wp-content/uploads/2023/12/Eventi-Sito-Circolo.png
END:VEVENT
END:VCALENDAR