BEGIN:VCALENDAR
VERSION:2.0
PRODID:-//Circolo Tennis Carpena - ECPv5.9.2//NONSGML v1.0//EN
CALSCALE:GREGORIAN
METHOD:PUBLISH
X-WR-CALNAME:Circolo Tennis Carpena
X-ORIGINAL-URL:https://tenniscarpena.com
X-WR-CALDESC:Eventi per Circolo Tennis Carpena
BEGIN:VTIMEZONE
TZID:UTC
BEGIN:STANDARD
TZOFFSETFROM:+0000
TZOFFSETTO:+0000
TZNAME:UTC
DTSTART:20250101T000000
END:STANDARD
END:VTIMEZONE
BEGIN:VEVENT
DTSTART;TZID=UTC:20250913T203000
DTEND;TZID=UTC:20250913T203000
DTSTAMP:20260419T122218
CREATED:20250904T141239Z
LAST-MODIFIED:20250904T141623Z
UID:1641-1757795400-1757795400@tenniscarpena.com
SUMMARY:Festa di fine estate!
DESCRIPTION:Salutiamo l’estate con una serata indimenticabile! \nCena alla carta nel prato e musica dal vivo con i “Nazionali” (dalla beat generation agli anni ’70) \nSiete pronti a ballare e brindare insieme a noi? \nVi aspettiamo Sabato 13 settembre… non potete mancare! \nPer info e prenotazioni: 0543.402344 \n> Sono ammessi inviti
URL:https://tenniscarpena.com/evento/festa-di-fine-estate-2/
CATEGORIES:Ludico ricreativi
ATTACH;FMTTYPE=image/png:https://tenniscarpena.com/wp-content/uploads/2025/09/Eventi-Sito-Circolo.png
END:VEVENT
END:VCALENDAR