BEGIN:VCALENDAR
VERSION:2.0
PRODID:-//Circolo Tennis Carpena - ECPv5.9.2//NONSGML v1.0//EN
CALSCALE:GREGORIAN
METHOD:PUBLISH
X-WR-CALNAME:Circolo Tennis Carpena
X-ORIGINAL-URL:https://tenniscarpena.com
X-WR-CALDESC:Eventi per Circolo Tennis Carpena
BEGIN:VTIMEZONE
TZID:UTC
BEGIN:STANDARD
TZOFFSETFROM:+0000
TZOFFSETTO:+0000
TZNAME:UTC
DTSTART:20250101T000000
END:STANDARD
END:VTIMEZONE
BEGIN:VEVENT
DTSTART;TZID=UTC:20250302T160000
DTEND;TZID=UTC:20250302T160000
DTSTAMP:20260419T124305
CREATED:20250225T120510Z
LAST-MODIFIED:20250225T120637Z
UID:1530-1740931200-1740931200@tenniscarpena.com
SUMMARY:Finito il carnevale\, un burraco sempre vale
DESCRIPTION:Carnevale è finito… ma il divertimento continua! \nDomenica 2 Marzo\, non mancare al nostro appuntamento con il Burraco!\nUn’occasione perfetta per divertirsi e\, perchè no\, vincere! \nIntermezzo con merenda dolce \n\nISCRIZIONI IN SEGRETERIA (Euro 5\,00 a testa)\n> Possibilità di formare la coppia anche con un ospite
URL:https://tenniscarpena.com/evento/finito-il-carnevale-un-burraco-sempre-vale/
CATEGORIES:Ludico ricreativi
ATTACH;FMTTYPE=image/png:https://tenniscarpena.com/wp-content/uploads/2025/02/Eventi-Sito-Circolo.png
END:VEVENT
END:VCALENDAR