BEGIN:VCALENDAR
VERSION:2.0
PRODID:-//Circolo Tennis Carpena - ECPv5.9.2//NONSGML v1.0//EN
CALSCALE:GREGORIAN
METHOD:PUBLISH
X-WR-CALNAME:Circolo Tennis Carpena
X-ORIGINAL-URL:https://tenniscarpena.com
X-WR-CALDESC:Eventi per Circolo Tennis Carpena
BEGIN:VTIMEZONE
TZID:UTC
BEGIN:STANDARD
TZOFFSETFROM:+0000
TZOFFSETTO:+0000
TZNAME:UTC
DTSTART:20220101T000000
END:STANDARD
END:VTIMEZONE
BEGIN:VEVENT
DTSTART;TZID=UTC:20220804T080000
DTEND;TZID=UTC:20220804T170000
DTSTAMP:20260419T124130
CREATED:20221011T192738Z
LAST-MODIFIED:20221011T193706Z
UID:1154-1659600000-1659632400@tenniscarpena.com
SUMMARY:Gene Gnocchi presenta il suo libro "TENNISPEDIA"
DESCRIPTION:Giovedì 4 Agosto Gene Gnocchi sarà ospite al nostro Circolo per presentare alle ore 21:00 il suo libro “TENNISPEDIA”: da Agassi alle Williams\, dal back allo slice\, i personaggi e le parole del tennis raccontati nel suo inconfondibile stile. \n\nA partire dalle 19:30 Apericena:\nPinzimonio e tzatziki\nOlive all’ascolana\nCous cous con verdure e gamberi\nFigliata ( mozzarella di bufala ) con crostini di pane\,\npomodorini al basilico\,\nmelanzane e zucchine marinate\n1 Drink incluso\n\nEuro 20\,00 \n\nNon mancheranno gag e tanto divertimento.\nTi aspettiamo!\n\n Info e prenotazioni 340 5988630 – 0543.402344\n Possibilità per i Soci di estendere l ‘invito per la serata
URL:https://tenniscarpena.com/evento/gene-gnocchi-presenta-il-suo-libro-tennispedia/
CATEGORIES:Ludico ricreativi
ATTACH;FMTTYPE=image/png:https://tenniscarpena.com/wp-content/uploads/2022/10/Progetto-senza-titolo-67.png
END:VEVENT
END:VCALENDAR