BEGIN:VCALENDAR
VERSION:2.0
PRODID:-//Circolo Tennis Carpena - ECPv5.9.2//NONSGML v1.0//EN
CALSCALE:GREGORIAN
METHOD:PUBLISH
X-WR-CALNAME:Circolo Tennis Carpena
X-ORIGINAL-URL:https://tenniscarpena.com
X-WR-CALDESC:Eventi per Circolo Tennis Carpena
BEGIN:VTIMEZONE
TZID:UTC
BEGIN:STANDARD
TZOFFSETFROM:+0000
TZOFFSETTO:+0000
TZNAME:UTC
DTSTART:20240101T000000
END:STANDARD
END:VTIMEZONE
BEGIN:VEVENT
DTSTART;TZID=UTC:20241125T173000
DTEND;TZID=UTC:20241125T173000
DTSTAMP:20260419T124505
CREATED:20241118T092549Z
LAST-MODIFIED:20241127T142137Z
UID:1514-1732555800-1732555800@tenniscarpena.com
SUMMARY:Giornata Internazionale contro la Violenza sulle Donne
DESCRIPTION:La realtà delle donne in Iran nella situazione geopolitica attuale. \nLunedì 25 Novembre alle ore 17:30\, in occasione della Giornata Internazionale per l’eliminazione della Violenza sulle Donne\, Wilma Malucelli interverrà per parlarci della condizione delle donne iraniane che\, in un contesto segnato da sfide politiche\, sociali e culturali\, continuano a lottare quotidianamente per i propri diritti\, per la libertà contro ogni forma di oppressione.\n \nVi aspettiamo! \n\n> Possibilità per i Soci di estendere l’invito
URL:https://tenniscarpena.com/evento/giornata-internazionale-per-leliminazione-della-violenza-sulle-donne/
CATEGORIES:Ludico ricreativi
ATTACH;FMTTYPE=image/png:https://tenniscarpena.com/wp-content/uploads/2024/11/Eventi-Sito-Circolo-2.png
END:VEVENT
END:VCALENDAR