BEGIN:VCALENDAR
VERSION:2.0
PRODID:-//Circolo Tennis Carpena - ECPv5.9.2//NONSGML v1.0//EN
CALSCALE:GREGORIAN
METHOD:PUBLISH
X-WR-CALNAME:Circolo Tennis Carpena
X-ORIGINAL-URL:https://tenniscarpena.com
X-WR-CALDESC:Eventi per Circolo Tennis Carpena
BEGIN:VTIMEZONE
TZID:UTC
BEGIN:STANDARD
TZOFFSETFROM:+0000
TZOFFSETTO:+0000
TZNAME:UTC
DTSTART:20250101T000000
END:STANDARD
END:VTIMEZONE
BEGIN:VEVENT
DTSTART;TZID=UTC:20250810T200000
DTEND;TZID=UTC:20250810T200000
DTSTAMP:20260419T123325
CREATED:20250725T104832Z
LAST-MODIFIED:20250725T105024Z
UID:1610-1754856000-1754856000@tenniscarpena.com
SUMMARY:Grigliata di San Lorenzo - III Edizione
DESCRIPTION:Domenica 10 Agosto torna la terza edizione della Grigliata di San Lorenzo! ✨ \nUna speciale serata gastronomica organizzata dai soci esclusivamente per i soci. \nUna notte all’insegna del buon cibo\, della compagnia e del divertimento con tante sorprese fino a mezzanotte!  ✨ \n\n\nContributo musicale a cura di Nazario & Gloria e DJ Killer: preparatevi a scatenarvi sulle note delle hit più amate dagli anni ’80 ad oggi. \nPRENOTAZIONE OBBLIGATORIA ENTRO LUNEDÌ 4 AGOSTO\nSEGRETERIA 0543 480072 – WHATSAPP 342.9750199\nE-MAIL: info@tenniscarpena.it \n> Strettamente sociale
URL:https://tenniscarpena.com/evento/grigliata-di-san-lorenzo-iii-edizione/
CATEGORIES:Ludico ricreativi
ATTACH;FMTTYPE=image/png:https://tenniscarpena.com/wp-content/uploads/2025/07/Eventi-Sito-Circolo-3.png
END:VEVENT
END:VCALENDAR