BEGIN:VCALENDAR
VERSION:2.0
PRODID:-//Circolo Tennis Carpena - ECPv5.9.2//NONSGML v1.0//EN
CALSCALE:GREGORIAN
METHOD:PUBLISH
X-WR-CALNAME:Circolo Tennis Carpena
X-ORIGINAL-URL:https://tenniscarpena.com
X-WR-CALDESC:Eventi per Circolo Tennis Carpena
BEGIN:VTIMEZONE
TZID:UTC
BEGIN:STANDARD
TZOFFSETFROM:+0000
TZOFFSETTO:+0000
TZNAME:UTC
DTSTART:20220101T000000
END:STANDARD
END:VTIMEZONE
BEGIN:VEVENT
DTSTART;TZID=UTC:20220903T200000
DTEND;TZID=UTC:20220903T233000
DTSTAMP:20260419T123010
CREATED:20220829T135928Z
LAST-MODIFIED:20220829T140044Z
UID:1102-1662235200-1662247800@tenniscarpena.com
SUMMARY:Hogwarts arriva al Circolo!
DESCRIPTION:Maghi\, apprendisti maghi\, babbani segnatevi la data e ditelo ai vostri amici!\nCena magica con giochi e animazione dalle ore 20:00: \n\nFlan allo squacquerone con insalatina\, prosciutto croccante e aceto balsamico\nLasagnetta con zucchine salsiccia e fonduta al taleggio\nProsciutto di maiale arrosto con patate al forno\nZuppa inglese\nAcqua e Vino Sanderry\n\nEuro 28\,00 \n\n\nStrozzapreti pasticciati\nWurstel e patate fritte\nBiscotto gelato\nAcqua e coca-cola\n\nEuro 15\,00 \nPrenotazione obbligatoria: 340 5988630 – 0543.402344 \nInizio giochi con partita di quidditch…. Non mancate!
URL:https://tenniscarpena.com/evento/hogwarts-arriva-al-circolo/
CATEGORIES:Ludico ricreativi
ATTACH;FMTTYPE=image/png:https://tenniscarpena.com/wp-content/uploads/2022/08/3-settembre.png
END:VEVENT
END:VCALENDAR