BEGIN:VCALENDAR
VERSION:2.0
PRODID:-//Circolo Tennis Carpena - ECPv5.9.2//NONSGML v1.0//EN
CALSCALE:GREGORIAN
METHOD:PUBLISH
X-WR-CALNAME:Circolo Tennis Carpena
X-ORIGINAL-URL:https://tenniscarpena.com
X-WR-CALDESC:Eventi per Circolo Tennis Carpena
BEGIN:VTIMEZONE
TZID:UTC
BEGIN:STANDARD
TZOFFSETFROM:+0000
TZOFFSETTO:+0000
TZNAME:UTC
DTSTART:20220101T000000
END:STANDARD
END:VTIMEZONE
BEGIN:VEVENT
DTSTART;TZID=UTC:20221028T200000
DTEND;TZID=UTC:20221028T233000
DTSTAMP:20260419T124125
CREATED:20221102T150428Z
LAST-MODIFIED:20221102T150504Z
UID:1180-1666987200-1666999800@tenniscarpena.com
SUMMARY:I venerdì di Ottobre
DESCRIPTION:Venerdì 28 Ottobre torna l’appuntamento con un piatto unico\, coloratissimo e super gustoso: la Paella!\n\nMenù della serata:\nPaella\nSorbetto al limone\nAcqua e vino\nEuro 30\,00\n\nVi aspettiamo dalle ore 20:00! \n Info e prenotazioni 340.5988630\n> Tutti i Soci possono estendere l’invito ad amici e parenti
URL:https://tenniscarpena.com/evento/i-venerdi-di-ottobre/
CATEGORIES:Ludico ricreativi
ATTACH;FMTTYPE=image/png:https://tenniscarpena.com/wp-content/uploads/2022/11/Eventi-Sito-Circolo.png
END:VEVENT
END:VCALENDAR