BEGIN:VCALENDAR
VERSION:2.0
PRODID:-//Circolo Tennis Carpena - ECPv5.9.2//NONSGML v1.0//EN
CALSCALE:GREGORIAN
METHOD:PUBLISH
X-WR-CALNAME:Circolo Tennis Carpena
X-ORIGINAL-URL:https://tenniscarpena.com
X-WR-CALDESC:Eventi per Circolo Tennis Carpena
BEGIN:VTIMEZONE
TZID:UTC
BEGIN:STANDARD
TZOFFSETFROM:+0000
TZOFFSETTO:+0000
TZNAME:UTC
DTSTART:20230101T000000
END:STANDARD
END:VTIMEZONE
BEGIN:VEVENT
DTSTART;TZID=UTC:20230120T200000
DTEND;TZID=UTC:20230120T233000
DTSTAMP:20260419T122128
CREATED:20230117T133242Z
LAST-MODIFIED:20230117T133315Z
UID:1238-1674244800-1674257400@tenniscarpena.com
SUMMARY:L'inverno alle porte
DESCRIPTION:Una ghiottissima e gustosissima cena a base di polenta\, ideale in questi giorni freddi. \nIl Ristorante Sanderry propone: \n• Polenta fritta con selezione di formaggi \n• Polenta con costine salsiccia e pancetta \n• Zuppa Inglese \nEuro 24\,00 (bevande escluse) \nInfo e prenotazioni:\n340 5988630 – 0543.402344 \n👉 Possibilità per i Soci di estendere l’invito
URL:https://tenniscarpena.com/evento/linverno-alle-porte/
CATEGORIES:Ludico ricreativi
ATTACH;FMTTYPE=image/png:https://tenniscarpena.com/wp-content/uploads/2023/01/Eventi-Sito-Circolo-3.png
END:VEVENT
END:VCALENDAR