BEGIN:VCALENDAR
VERSION:2.0
PRODID:-//Circolo Tennis Carpena - ECPv5.9.2//NONSGML v1.0//EN
CALSCALE:GREGORIAN
METHOD:PUBLISH
X-WR-CALNAME:Circolo Tennis Carpena
X-ORIGINAL-URL:https://tenniscarpena.com
X-WR-CALDESC:Eventi per Circolo Tennis Carpena
BEGIN:VTIMEZONE
TZID:UTC
BEGIN:STANDARD
TZOFFSETFROM:+0000
TZOFFSETTO:+0000
TZNAME:UTC
DTSTART:20230101T000000
END:STANDARD
END:VTIMEZONE
BEGIN:VEVENT
DTSTART;TZID=UTC:20230131T080000
DTEND;TZID=UTC:20230131T170000
DTSTAMP:20260419T121704
CREATED:20230131T122341Z
LAST-MODIFIED:20230131T122436Z
UID:1246-1675152000-1675184400@tenniscarpena.com
SUMMARY:Mare dentro
DESCRIPTION:Un menù di mare sfizioso da gustare assieme agli amici! \nIl Ristornate Sanderry propone: \nZᴜᴘᴘᴇᴛᴛᴀ ᴅɪ ᴘᴏʀʀɪ ᴇ ᴘᴀᴛᴀᴛᴇ ᴄᴏɴ ʙʀᴜɴᴏɪsᴇ ᴅɪ ᴠᴇʀᴅᴜʀᴇ\, ɢᴀᴍʙᴇʀɪ\,\nᴄᴀʟᴀᴍᴀʀɪ\, ᴄᴏᴢᴢᴇ ᴇ ᴠᴏɴɢᴏʟᴇ \nMᴀɴᴛᴇᴄᴀᴛᴏ ᴅɪ ᴘᴀᴛᴀᴛᴇ ᴇ ʀᴀᴘᴀ ʀᴏssᴀ ᴄᴏɴ ᴛʀᴀɴᴄɪᴏ ᴅɪ ᴄᴇғᴀʟᴏ \nFʀɪᴛᴛᴏ ᴅɪ ɢᴀᴍʙᴇʀɪ\, ᴄᴀʟᴀᴍᴀʀɪ\, sᴀʀᴅᴏɴᴄɪɴɪ ᴇ ᴠᴇʀᴅᴜʀᴇ \nDᴇssᴇʀᴛ \nEᴜʀᴏ 28\,00 (ʙᴇᴠᴀɴᴅᴇ ᴇsᴄʟᴜsᴇ) \n  \nQuando? 👇 \nVenerdì 3 Febbraio alle ore 20:00 \nTi aspettiamo! \n👉 Info e prenotazioni: 340 5988630 – 0543.402344 \nPossibilità  per i Soci di estendere l’invito.
URL:https://tenniscarpena.com/evento/mare-dentro/
CATEGORIES:Ludico ricreativi
ATTACH;FMTTYPE=image/png:https://tenniscarpena.com/wp-content/uploads/2023/01/Eventi-Sito-Circolo-3-2.png
END:VEVENT
END:VCALENDAR