BEGIN:VCALENDAR
VERSION:2.0
PRODID:-//Circolo Tennis Carpena - ECPv5.9.2//NONSGML v1.0//EN
CALSCALE:GREGORIAN
METHOD:PUBLISH
X-WR-CALNAME:Circolo Tennis Carpena
X-ORIGINAL-URL:https://tenniscarpena.com
X-WR-CALDESC:Eventi per Circolo Tennis Carpena
BEGIN:VTIMEZONE
TZID:UTC
BEGIN:STANDARD
TZOFFSETFROM:+0000
TZOFFSETTO:+0000
TZNAME:UTC
DTSTART:20220101T000000
END:STANDARD
END:VTIMEZONE
BEGIN:VEVENT
DTSTART;TZID=UTC:20220807T183000
DTEND;TZID=UTC:20220807T223000
DTSTAMP:20260419T123149
CREATED:20221011T195033Z
LAST-MODIFIED:20221011T195033Z
UID:1167-1659897000-1659911400@tenniscarpena.com
SUMMARY:Musica dal vivo\, aperitivo e bagno serale
DESCRIPTION:Domenica 7 agosto aperitivo con la musica del duo femminile Jolì & Co.\nBrani Country\, Soul e Pop\, un repertorio spazia dalle cover di Stevie Wonder\, Simon & Garfunkel\, Norah Jones\, Amy Winehouse\, Mina\nLa piscina resterà aperta fino alle 22:30\n\nTi aspettiamo dalle ore 18:30!\n\n> Info e prenotazioni 340 5988630 – 0543.402344\n> Possibilità per i Soci di estendere l’ invito per la serata\, escluso accesso alla piscina.
URL:https://tenniscarpena.com/evento/musica-dal-vivo-aperitivo-e-bagno-serale/
CATEGORIES:Ludico ricreativi
ATTACH;FMTTYPE=image/png:https://tenniscarpena.com/wp-content/uploads/2022/10/Progetto-senza-titolo-67-2.png
END:VEVENT
END:VCALENDAR