BEGIN:VCALENDAR
VERSION:2.0
PRODID:-//Circolo Tennis Carpena - ECPv5.9.2//NONSGML v1.0//EN
CALSCALE:GREGORIAN
METHOD:PUBLISH
X-WR-CALNAME:Circolo Tennis Carpena
X-ORIGINAL-URL:https://tenniscarpena.com
X-WR-CALDESC:Eventi per Circolo Tennis Carpena
BEGIN:VTIMEZONE
TZID:UTC
BEGIN:STANDARD
TZOFFSETFROM:+0000
TZOFFSETTO:+0000
TZNAME:UTC
DTSTART:20220101T000000
END:STANDARD
END:VTIMEZONE
BEGIN:VEVENT
DTSTART;TZID=UTC:20220729T203000
DTEND;TZID=UTC:20220729T233000
DTSTAMP:20260419T124419
CREATED:20221011T183425Z
LAST-MODIFIED:20221011T183521Z
UID:1147-1659126600-1659137400@tenniscarpena.com
SUMMARY:Musica dal vivo con i Brillanti Sparsi
DESCRIPTION:#musica live  con i Brillanti Sparsi e cena sul prato… quando?\nVenerdì 29 luglio dalle ore 20:30.\n\nIl Ristorante Sanderry propone:\nFʀɪsᴇʟʟᴀ ᴄᴏɴ ᴘᴏᴍᴏᴅᴏʀɪɴɪ\, ᴄɪᴘᴏʟʟᴀ ᴍᴀʀɪɴᴀᴛᴀ ᴅɪ ᴛʀᴏᴘᴇᴀ ᴇ sᴛʀᴀᴄᴄɪᴀᴛᴇʟʟᴀ\nPɪɴᴢɪᴍᴏɴɪᴏ ᴇ ɢɴᴏᴄᴄᴏ ғʀɪᴛᴛᴏ ᴄᴏɴ ʀᴀᴠɪɢɪᴏʟᴏ\nPᴏʟʟᴏ ᴀʟʟ’ᴀʀʀᴀʙʙɪᴀᴛᴀ ᴄᴏɴ ᴘᴀᴛᴀᴛᴇ ᴀʀʀᴏsᴛᴏ\nDᴇssᴇʀᴛ\nEᴜʀᴏ 24\,00 (ʙᴇᴠᴀɴᴅᴇ ᴇsᴄʟᴜsᴇ)\n\n Prenotazione obbligatoria entro giovedì 28 luglio\n340 5988630 – 0543.402344\nNon mancate!\n\n Possibilità per i Soci di estendere l’invito per la serata
URL:https://tenniscarpena.com/evento/musica-dal-vivo-con-i-brillanti-sparsi/
CATEGORIES:Ludico ricreativi
ATTACH;FMTTYPE=image/jpeg:https://tenniscarpena.com/wp-content/uploads/2022/10/295696900_2087139581466030_679144355674702576_n-1.jpg
END:VEVENT
END:VCALENDAR