BEGIN:VCALENDAR
VERSION:2.0
PRODID:-//Circolo Tennis Carpena - ECPv5.9.2//NONSGML v1.0//EN
CALSCALE:GREGORIAN
METHOD:PUBLISH
X-WR-CALNAME:Circolo Tennis Carpena
X-ORIGINAL-URL:https://tenniscarpena.com
X-WR-CALDESC:Eventi per Circolo Tennis Carpena
BEGIN:VTIMEZONE
TZID:UTC
BEGIN:STANDARD
TZOFFSETFROM:+0000
TZOFFSETTO:+0000
TZNAME:UTC
DTSTART:20220101T000000
END:STANDARD
END:VTIMEZONE
BEGIN:VEVENT
DTSTART;TZID=UTC:20220731T183000
DTEND;TZID=UTC:20220731T223000
DTSTAMP:20260419T122301
CREATED:20221011T183901Z
LAST-MODIFIED:20221011T184011Z
UID:1151-1659292200-1659306600@tenniscarpena.com
SUMMARY:Musica DJ Set\, aperitivo e bagno serale
DESCRIPTION:Appuntamento della domenica con Musica DJ Set\nMirko The Voice\nmusica italiana anni ’70 -’80\n… e Karaoke\nAperitivo con proposta gastronomica e per chi vuole rinfrescarsi con un bagno serale piscina aperta fino alle 22:30!\nTi aspettiamo!\n\n> Info e prenotazioni 340 5988630 – 0543.402344\n> Possibilità per i Soci di estendere l’invito per la serata\, escluso accesso alla piscina
URL:https://tenniscarpena.com/evento/musica-dj-set-aperitivo-e-bagno-serale/
CATEGORIES:Ludico ricreativi
ATTACH;FMTTYPE=image/jpeg:https://tenniscarpena.com/wp-content/uploads/2022/10/295771532_2087147118131943_7606545415769275980_n.jpg
END:VEVENT
END:VCALENDAR