BEGIN:VCALENDAR
VERSION:2.0
PRODID:-//Circolo Tennis Carpena - ECPv5.9.2//NONSGML v1.0//EN
CALSCALE:GREGORIAN
METHOD:PUBLISH
X-WR-CALNAME:Circolo Tennis Carpena
X-ORIGINAL-URL:https://tenniscarpena.com
X-WR-CALDESC:Eventi per Circolo Tennis Carpena
BEGIN:VTIMEZONE
TZID:UTC
BEGIN:STANDARD
TZOFFSETFROM:+0000
TZOFFSETTO:+0000
TZNAME:UTC
DTSTART:20250101T000000
END:STANDARD
END:VTIMEZONE
BEGIN:VEVENT
DTSTART;TZID=UTC:20250814T203000
DTEND;TZID=UTC:20250814T203000
DTSTAMP:20260419T124418
CREATED:20250804T162455Z
LAST-MODIFIED:20250804T162455Z
UID:1637-1755203400-1755203400@tenniscarpena.com
SUMMARY:Musica italiana anni '80 con i Vi.Vi.Di
DESCRIPTION:Una serata carica di emozioni e ricordi! \nGiovedì 14 Agosto i Vi.Vi.Di portano la musica italiana anni ’80: dalle sigle televisive\, ai cartoni animati che hanno accompagnato la nostra infanzia\, fino ai brani più belli che hanno fatto la storia. \nPronti a ballare e a cantare a squarciagola? \nCena alla carta nel prato.\nInfo e prenotazioni 0543 402344 \n> Sono ammessi inviti
URL:https://tenniscarpena.com/evento/musica-italiana-anni-80-con-i-vi-vi-di/
CATEGORIES:Ludico ricreativi
ATTACH;FMTTYPE=image/png:https://tenniscarpena.com/wp-content/uploads/2025/08/Eventi-Sito-Circolo-1.png
END:VEVENT
END:VCALENDAR