BEGIN:VCALENDAR
VERSION:2.0
PRODID:-//Circolo Tennis Carpena - ECPv5.9.2//NONSGML v1.0//EN
CALSCALE:GREGORIAN
METHOD:PUBLISH
X-WR-CALNAME:Circolo Tennis Carpena
X-ORIGINAL-URL:https://tenniscarpena.com
X-WR-CALDESC:Eventi per Circolo Tennis Carpena
BEGIN:VTIMEZONE
TZID:UTC
BEGIN:STANDARD
TZOFFSETFROM:+0000
TZOFFSETTO:+0000
TZNAME:UTC
DTSTART:20220101T000000
END:STANDARD
END:VTIMEZONE
BEGIN:VEVENT
DTSTART;TZID=UTC:20220810T203000
DTEND;TZID=UTC:20220810T223000
DTSTAMP:20260419T122128
CREATED:20221011T194804Z
LAST-MODIFIED:20221011T194804Z
UID:1164-1660163400-1660170600@tenniscarpena.com
SUMMARY:Notte di San Lorenzo
DESCRIPTION:Una serata speciale sotto le stelle.\nMusica Dj Set Misi\nPop rock prog come non li avete mai sentiti. Ascoltiamo col vinile e con l’amplificatore a valvole.\nMenù della serata\nGRGLIATA\nSalsiccia e pancetta ai ferri con pomodori al tegame\nAcqua\, vino\, ciambella e digestivo\nEuro 18\,00\nPer i bimbi\nSalsiccia ai ferri e patate al forno\nAcqua\, coca-cola e ciambella\nEuro 12\,00\n\n\nPer l’ occasione la piscina resterà aperta fino alle ore 22:30.\nPronti a esprimere un desiderio?\n\n> Info e prenotazioni 340 5988630 – 0543.402344\n> Possibilità per i Soci di estendere l’invito per la cena e in via eccezionale anche per la piscina.
URL:https://tenniscarpena.com/evento/notte-di-san-lorenzo/
CATEGORIES:Ludico ricreativi
ATTACH;FMTTYPE=image/png:https://tenniscarpena.com/wp-content/uploads/2022/10/Progetto-senza-titolo-67-1.png
END:VEVENT
END:VCALENDAR