BEGIN:VCALENDAR
VERSION:2.0
PRODID:-//Circolo Tennis Carpena - ECPv5.9.2//NONSGML v1.0//EN
CALSCALE:GREGORIAN
METHOD:PUBLISH
X-WR-CALNAME:Circolo Tennis Carpena
X-ORIGINAL-URL:https://tenniscarpena.com
X-WR-CALDESC:Eventi per Circolo Tennis Carpena
BEGIN:VTIMEZONE
TZID:UTC
BEGIN:STANDARD
TZOFFSETFROM:+0000
TZOFFSETTO:+0000
TZNAME:UTC
DTSTART:20220101T000000
END:STANDARD
END:VTIMEZONE
BEGIN:VEVENT
DTSTART;TZID=UTC:20221209T200000
DTEND;TZID=UTC:20221209T233000
DTSTAMP:20260419T121947
CREATED:20221205T140406Z
LAST-MODIFIED:20221205T140524Z
UID:1216-1670616000-1670628600@tenniscarpena.com
SUMMARY:Paella Tradizionale
DESCRIPTION:Torna l’appuntamento con la Paella\, un piatto super gustoso perfetto per una cena tra amici! \nMᴇɴᴜ̀ ᴅᴇʟʟᴀ sᴇʀᴀᴛᴀ 😋 \nPᴀᴇʟʟᴀ ᴀʟ ɴᴇʀᴏ ᴅɪ sᴇᴘᴘɪᴀ\nAᴄᴏ̨ᴜᴀ\nVɪɴᴏ\nSᴏʀʙᴇᴛᴛᴏ \nEᴜʀᴏ 30\,00 \nVi aspettiamo dalle ore 20:00! \nInfo e prenotazioni 340 5988630 – 0543.402344 \n> Possibilità per i Soci di estendere l’invito.
URL:https://tenniscarpena.com/evento/paella-tradizionale/
CATEGORIES:Ludico ricreativi
ATTACH;FMTTYPE=image/png:https://tenniscarpena.com/wp-content/uploads/2022/12/Eventi-Sito-Circolo.png
END:VEVENT
END:VCALENDAR