BEGIN:VCALENDAR
VERSION:2.0
PRODID:-//Circolo Tennis Carpena - ECPv5.9.2//NONSGML v1.0//EN
CALSCALE:GREGORIAN
METHOD:PUBLISH
X-WR-CALNAME:Circolo Tennis Carpena
X-ORIGINAL-URL:https://tenniscarpena.com
X-WR-CALDESC:Eventi per Circolo Tennis Carpena
BEGIN:VTIMEZONE
TZID:UTC
BEGIN:STANDARD
TZOFFSETFROM:+0000
TZOFFSETTO:+0000
TZNAME:UTC
DTSTART:20230101T000000
END:STANDARD
END:VTIMEZONE
BEGIN:VEVENT
DTSTART;TZID=UTC:20230127T200000
DTEND;TZID=UTC:20230127T233000
DTSTAMP:20260419T121928
CREATED:20230124T082528Z
LAST-MODIFIED:20230124T082528Z
UID:1242-1674849600-1674862200@tenniscarpena.com
SUMMARY:Sapori d'inverno
DESCRIPTION:Una cena sfiziosa alla scoperta dei sapori d’inverno. \nIl Ristorante Sanderry propone: \nZuppa al cavolo nero\nOssobuco alla milanese con purè\nDolci di carnevale \nEuro 24\,00 (bevande escluse) \nInfo e prenotazioni\n340 5988630 – 0543.402344 \n> Possibilità  per i Soci di estendere l’invito
URL:https://tenniscarpena.com/evento/sapori-dinverno/
CATEGORIES:Ludico ricreativi
ATTACH;FMTTYPE=image/png:https://tenniscarpena.com/wp-content/uploads/2023/01/Eventi-Sito-Circolo-3-1.png
END:VEVENT
END:VCALENDAR