BEGIN:VCALENDAR
VERSION:2.0
PRODID:-//Circolo Tennis Carpena - ECPv5.9.2//NONSGML v1.0//EN
CALSCALE:GREGORIAN
METHOD:PUBLISH
X-WR-CALNAME:Circolo Tennis Carpena
X-ORIGINAL-URL:https://tenniscarpena.com
X-WR-CALDESC:Eventi per Circolo Tennis Carpena
BEGIN:VTIMEZONE
TZID:UTC
BEGIN:STANDARD
TZOFFSETFROM:+0000
TZOFFSETTO:+0000
TZNAME:UTC
DTSTART:20230101T000000
END:STANDARD
END:VTIMEZONE
BEGIN:VEVENT
DTSTART;TZID=UTC:20230714T203000
DTEND;TZID=UTC:20230714T233000
DTSTAMP:20260419T124124
CREATED:20230710T144812Z
LAST-MODIFIED:20230710T145049Z
UID:1329-1689366600-1689377400@tenniscarpena.com
SUMMARY:Serata con Video Dj Franco
DESCRIPTION:Musica da ascoltare \, vedere e ballare! \nVenerdì 14 Luglio ore 20:30 vi aspettiamo per trascorrere una serata accompagnata dai filmati musicali delle più belle canzoni dagli anni ’50 ad oggi. \nIl Ristorante Sanderry propone: \nAperibox a sorpresa\n1 Calice di bolla o rosso\nSpaghetto cacio e pepe\nCocomero \nEuro 20\,00 \nInfo e prenotazioni\n340 5988630 – 0543.402344
URL:https://tenniscarpena.com/evento/serata-con-video-dj-franco/
CATEGORIES:Ludico ricreativi
ATTACH;FMTTYPE=image/png:https://tenniscarpena.com/wp-content/uploads/2023/07/Eventi-Sito-Circolo.png
END:VEVENT
END:VCALENDAR