BEGIN:VCALENDAR
VERSION:2.0
PRODID:-//Circolo Tennis Carpena - ECPv5.9.2//NONSGML v1.0//EN
CALSCALE:GREGORIAN
METHOD:PUBLISH
X-WR-CALNAME:Circolo Tennis Carpena
X-ORIGINAL-URL:https://tenniscarpena.com
X-WR-CALDESC:Eventi per Circolo Tennis Carpena
BEGIN:VTIMEZONE
TZID:UTC
BEGIN:STANDARD
TZOFFSETFROM:+0000
TZOFFSETTO:+0000
TZNAME:UTC
DTSTART:20240101T000000
END:STANDARD
END:VTIMEZONE
BEGIN:VEVENT
DTSTART;TZID=UTC:20241214T190000
DTEND;TZID=UTC:20241214T190000
DTSTAMP:20260419T121921
CREATED:20241127T141554Z
LAST-MODIFIED:20241127T141755Z
UID:1518-1734202800-1734202800@tenniscarpena.com
SUMMARY:Serata degli Auguri
DESCRIPTION:Una serata speciale di festeggiamenti e solidarietà\nSabato 14 Dicembre dalle ore 19:00 vi aspettiamo per un ricco Buffet di Natale. \nAdulti Euro 35\,00\nBambini Gratis \nInfo e prenotazioni 0543 402344 (entro giovedì 12 dicembre) \nSara’ presente un tavolo di solidarieta’ in favore di AIL gestito dal nostro socio Redo Camporesi \nStrettamente sociale
URL:https://tenniscarpena.com/evento/serata-degli-auguri/
CATEGORIES:Ludico ricreativi
ATTACH;FMTTYPE=image/png:https://tenniscarpena.com/wp-content/uploads/2024/11/1.png
END:VEVENT
END:VCALENDAR