BEGIN:VCALENDAR
VERSION:2.0
PRODID:-//Circolo Tennis Carpena - ECPv5.9.2//NONSGML v1.0//EN
CALSCALE:GREGORIAN
METHOD:PUBLISH
X-WR-CALNAME:Circolo Tennis Carpena
X-ORIGINAL-URL:https://tenniscarpena.com
X-WR-CALDESC:Eventi per Circolo Tennis Carpena
BEGIN:VTIMEZONE
TZID:UTC
BEGIN:STANDARD
TZOFFSETFROM:+0000
TZOFFSETTO:+0000
TZNAME:UTC
DTSTART:20230101T000000
END:STANDARD
END:VTIMEZONE
BEGIN:VEVENT
DTSTART;TZID=UTC:20230331T200000
DTEND;TZID=UTC:20230331T233000
DTSTAMP:20260419T121819
CREATED:20230330T124627Z
LAST-MODIFIED:20230330T124627Z
UID:1282-1680292800-1680305400@tenniscarpena.com
SUMMARY:Serata Fusion
DESCRIPTION:
URL:https://tenniscarpena.com/evento/serata-fusion/
CATEGORIES:Ludico ricreativi
ATTACH;FMTTYPE=image/jpeg:https://tenniscarpena.com/wp-content/uploads/2023/03/5d552d8d-68b4-4a49-b04b-d21137158ee8.jpg
END:VEVENT
END:VCALENDAR