BEGIN:VCALENDAR
VERSION:2.0
PRODID:-//Circolo Tennis Carpena - ECPv5.9.2//NONSGML v1.0//EN
CALSCALE:GREGORIAN
METHOD:PUBLISH
X-WR-CALNAME:Circolo Tennis Carpena
X-ORIGINAL-URL:https://tenniscarpena.com
X-WR-CALDESC:Eventi per Circolo Tennis Carpena
BEGIN:VTIMEZONE
TZID:UTC
BEGIN:STANDARD
TZOFFSETFROM:+0000
TZOFFSETTO:+0000
TZNAME:UTC
DTSTART:20220101T000000
END:STANDARD
END:VTIMEZONE
BEGIN:VEVENT
DTSTART;TZID=UTC:20221104T200000
DTEND;TZID=UTC:20221104T233000
DTSTAMP:20260419T121758
CREATED:20221102T153115Z
LAST-MODIFIED:20221102T153115Z
UID:1188-1667592000-1667604600@tenniscarpena.com
SUMMARY:Serata Toscana
DESCRIPTION:Venerdì 4 novembre appuntamento da non perdere!\nPiatti tipici e gustosi della cucina toscana da assaporare. \n\n𝗖𝗿𝗼𝘀𝘁𝗶𝗻𝗶 𝘁𝗼𝘀𝗰𝗮𝗻𝗶\n𝗥𝗶𝗯𝗼𝗹𝗹𝗶𝘁𝗮\n𝗣𝗲𝗽𝗼𝘀𝗼 𝗰𝗼𝗻 𝗽𝗼𝗹𝗲𝗻𝘁𝗮 𝗮𝗿𝗿𝗼𝘀𝘁𝗶𝘁𝗮\n𝗖𝗮𝗻𝘁𝘂𝗰𝗰𝗶\nEuro 27\,00 (bevande escluse) \n\nVi aspettiamo alle ore 20:00 \n\nInfo e prenotazioni \n340 5988630 – 0543.402344\n> Possibilità per i Soci di estendere l’invito.
URL:https://tenniscarpena.com/evento/serata-toscana/
CATEGORIES:Ludico ricreativi
ATTACH;FMTTYPE=image/png:https://tenniscarpena.com/wp-content/uploads/2022/11/Eventi-Sito-Circolo-1.png
END:VEVENT
END:VCALENDAR