BEGIN:VCALENDAR
VERSION:2.0
PRODID:-//Circolo Tennis Carpena - ECPv5.9.2//NONSGML v1.0//EN
CALSCALE:GREGORIAN
METHOD:PUBLISH
X-WR-CALNAME:Circolo Tennis Carpena
X-ORIGINAL-URL:https://tenniscarpena.com
X-WR-CALDESC:Eventi per Circolo Tennis Carpena
BEGIN:VTIMEZONE
TZID:UTC
BEGIN:STANDARD
TZOFFSETFROM:+0000
TZOFFSETTO:+0000
TZNAME:UTC
DTSTART:20230101T000000
END:STANDARD
END:VTIMEZONE
BEGIN:VEVENT
DTSTART;TZID=UTC:20230720T213000
DTEND;TZID=UTC:20230720T233000
DTSTAMP:20260419T123414
CREATED:20230717T080245Z
LAST-MODIFIED:20230717T080245Z
UID:1333-1689888600-1689895800@tenniscarpena.com
SUMMARY:Spettacolo Teatrale "Sotto le coperte non c'è miseria" -  Sesso e amore nella romagna popolare
DESCRIPTION:Giovedì 20 Luglio il Teatro delle Lune presenta “Sotto le coperte non c’è miseria” – Sesso e amore nella romagna popolare\, uno spettacolo che  gioca con la cultura romagnola ed in particolare con le asperità comiche del linguaggio legato al sesso e all’amore. \nIn forma di reading e musica\, è un viaggio che\, attraverso modi di dire\, proverbi\, aneddoti\, indovinelli e racconti\, ci conduce alla scoperta della sessualità pensata\, sognata\, mitizzata e praticata dai romagnoli. \nAttori\nAlessandro Pieri\nSilvia Scarpellini\nDenis Presepi\nMaurizio Mastrandrea \nFisarmonica\nStefano Franceschelli \nSceneggiatura e Regia\nMaurizio Mastrandrea \nINFO 0543.480072
URL:https://tenniscarpena.com/evento/spettacolo-teatrale-sotto-le-coperte-non-ce-miseria-sesso-e-amore-nella-romagna-popolare/
CATEGORIES:Ludico ricreativi
ATTACH;FMTTYPE=image/png:https://tenniscarpena.com/wp-content/uploads/2023/07/Eventi-Sito-Circolo-1.png
END:VEVENT
END:VCALENDAR