BEGIN:VCALENDAR
VERSION:2.0
PRODID:-//Circolo Tennis Carpena - ECPv5.9.2//NONSGML v1.0//EN
CALSCALE:GREGORIAN
METHOD:PUBLISH
X-WR-CALNAME:Circolo Tennis Carpena
X-ORIGINAL-URL:https://tenniscarpena.com
X-WR-CALDESC:Eventi per Circolo Tennis Carpena
BEGIN:VTIMEZONE
TZID:UTC
BEGIN:STANDARD
TZOFFSETFROM:+0000
TZOFFSETTO:+0000
TZNAME:UTC
DTSTART:20220101T000000
END:STANDARD
END:VTIMEZONE
BEGIN:VEVENT
DTSTART;TZID=UTC:20220814T200000
DTEND;TZID=UTC:20220814T233000
DTSTAMP:20260419T122649
CREATED:20221011T194203Z
LAST-MODIFIED:20221011T194506Z
UID:1159-1660507200-1660519800@tenniscarpena.com
SUMMARY:The Pushovers
DESCRIPTION:Domenica 14 Agosto una serata da non perdere! \n\n\n\n𝗠𝗨𝗦𝗜𝗖𝗔 𝗟𝗜𝗩𝗘 con PUSHOVERS ore 21:00\nIl gruppo è nato nel 2017 e la loro è un’anima tutta SOUL e R&B.\nLa band è composta da musicisti provenienti dal mondo del gospel\, blues e jazz.\nUno spettacolo dinamico e coinvolgente sulle note dei brani immortali di Aretha Franklin\, Ray Charles\, Marvin Gaye.\n\n\n\nLa band è composta da Sara Giunchi voce\, Alberto Guidi sax\, Alberto Olivetti tromba\, Gianluca Valentini tastiere\, Marco Fiori chitarra\, Maurizio Laghi Basso\, Jacopo Perini batteria. \n\n\n\n𝗖𝗘𝗡𝗔 (fronte piscina)\n\n\nParmigiana di melanzane con pomodoro fresco\,\nmozzarella fiordilatte e soia\n\n\nSformatino di squacquerone su spinacini e fico confit\nFritto dell’orto\n\n\nVariazioni di cous cous:\nalle verdure\ncon erbe aromatiche\, zafferano e salsa allo yogurt\nzucchine\, menta e tofu marinato\n\n\n\nBavarese allo yogurt con miele e noci Pecan \n\n\n\nE a mezzanotte bomboloncini caldi\n\n\n\n€ 30\,00 (Bevande escluse) \n\n\n\n Info e prenotazioni 340 5988630 – 0543.402344\n Possibilità per i Soci di estendere l ‘invito per la serata
URL:https://tenniscarpena.com/evento/the-pushovers/
CATEGORIES:Ludico ricreativi
ATTACH;FMTTYPE=image/png:https://tenniscarpena.com/wp-content/uploads/2022/10/297798265_2094490607397594_8677909918213230552_n.png
END:VEVENT
END:VCALENDAR