BEGIN:VCALENDAR
VERSION:2.0
PRODID:-//Circolo Tennis Carpena - ECPv5.9.2//NONSGML v1.0//EN
CALSCALE:GREGORIAN
METHOD:PUBLISH
X-WR-CALNAME:Circolo Tennis Carpena
X-ORIGINAL-URL:https://tenniscarpena.com
X-WR-CALDESC:Eventi per Circolo Tennis Carpena
BEGIN:VTIMEZONE
TZID:UTC
BEGIN:STANDARD
TZOFFSETFROM:+0000
TZOFFSETTO:+0000
TZNAME:UTC
DTSTART:20240101T000000
END:STANDARD
END:VTIMEZONE
BEGIN:VEVENT
DTSTART;TZID=UTC:20240726T213000
DTEND;TZID=UTC:20240726T233000
DTSTAMP:20260419T124255
CREATED:20240717T113901Z
LAST-MODIFIED:20240717T113901Z
UID:1434-1722029400-1722036600@tenniscarpena.com
SUMMARY:The Wave - Una serata all’insegna della musica
DESCRIPTION:Una serata all’insegna della musica con il gruppo The Wave\, un progetto nato dalla passione di quattro ragazzi di Forlì \nbatteria\, tastiere\, voce/chitarra \nPreparati a un viaggio musicale che ti farà ballare con le loro interpretazioni dei grandi successi pop degli anni ’70\, con qualche incursione nel Soul\, R&B\, Rock & Roll e Blues \n… e non mancheranno anche pezzi originali! \nVi aspettiamo! \n> Possibilità per i Soci di estendere l’invito
URL:https://tenniscarpena.com/evento/the-wave-una-serata-allinsegna-della-musica/
CATEGORIES:Ludico ricreativi
ATTACH;FMTTYPE=image/png:https://tenniscarpena.com/wp-content/uploads/2024/07/Eventi-Sito-Circolo-3.png
END:VEVENT
END:VCALENDAR