BEGIN:VCALENDAR
VERSION:2.0
PRODID:-//Circolo Tennis Carpena - ECPv5.9.2//NONSGML v1.0//EN
CALSCALE:GREGORIAN
METHOD:PUBLISH
X-WR-CALNAME:Circolo Tennis Carpena
X-ORIGINAL-URL:https://tenniscarpena.com
X-WR-CALDESC:Eventi per Circolo Tennis Carpena
BEGIN:VTIMEZONE
TZID:UTC
BEGIN:STANDARD
TZOFFSETFROM:+0000
TZOFFSETTO:+0000
TZNAME:UTC
DTSTART:20250101T000000
END:STANDARD
END:VTIMEZONE
BEGIN:VEVENT
DTSTART;TZID=UTC:20250706T183000
DTEND;TZID=UTC:20250706T183000
DTSTAMP:20260419T123305
CREATED:20250625T134448Z
LAST-MODIFIED:20250625T134448Z
UID:1575-1751826600-1751826600@tenniscarpena.com
SUMMARY:Torneo di Burraco di beneficenza
DESCRIPTION:Domenica 6 Luglio alle ore 18:30 vi aspettiamo per Torneo di Burraco di beneficenza in memoria di Giovanna Lombardi. \n\n\nIntervallo con pinsa offerta dal Circolo. \n\n\n\nEURO 20\,00\nIl ricavato sarà devoluto a favore dell’AIL \n\nIscrizione in Segreteria 0543 480072 \n\n\n\nSTRETTAMENTE SOCIALE \n\n\n\n 
URL:https://tenniscarpena.com/evento/torneo-di-burraco-di-beneficenza/
CATEGORIES:Ludico ricreativi
ATTACH;FMTTYPE=image/png:https://tenniscarpena.com/wp-content/uploads/2025/06/Eventi-Sito-Circolo-4.png
END:VEVENT
END:VCALENDAR