BEGIN:VCALENDAR
VERSION:2.0
PRODID:-//Circolo Tennis Carpena - ECPv5.9.2//NONSGML v1.0//EN
CALSCALE:GREGORIAN
METHOD:PUBLISH
X-WR-CALNAME:Circolo Tennis Carpena
X-ORIGINAL-URL:https://tenniscarpena.com
X-WR-CALDESC:Eventi per Circolo Tennis Carpena
BEGIN:VTIMEZONE
TZID:UTC
BEGIN:STANDARD
TZOFFSETFROM:+0000
TZOFFSETTO:+0000
TZNAME:UTC
DTSTART:20230101T000000
END:STANDARD
END:VTIMEZONE
BEGIN:VEVENT
DTSTART;TZID=UTC:20231214T204500
DTEND;TZID=UTC:20231214T233000
DTSTAMP:20260419T123137
CREATED:20231205T090343Z
LAST-MODIFIED:20231205T090343Z
UID:1379-1702586700-1702596600@tenniscarpena.com
SUMMARY:Torneo di Burraco di Natale
DESCRIPTION:Appuntamento Giovedì 14 Dicembre alle ore 20:45 per il Torneo di Burraco di Natale. \n\nPremi alle prime 3 coppie classificate\n\nDolce intermezzo offerto dal Ristorante Sanderry\n\nSTRETTAMENTE SOCIALE\n\n\n> Info e prenotazioni in segreteria
URL:https://tenniscarpena.com/evento/torneo-di-burraco-di-natale-2/
CATEGORIES:Ludico ricreativi
ATTACH;FMTTYPE=image/png:https://tenniscarpena.com/wp-content/uploads/2023/12/3.png
END:VEVENT
END:VCALENDAR