BEGIN:VCALENDAR
VERSION:2.0
PRODID:-//Circolo Tennis Carpena - ECPv5.9.2//NONSGML v1.0//EN
CALSCALE:GREGORIAN
METHOD:PUBLISH
X-WR-CALNAME:Circolo Tennis Carpena
X-ORIGINAL-URL:https://tenniscarpena.com
X-WR-CALDESC:Eventi per Circolo Tennis Carpena
BEGIN:VTIMEZONE
TZID:UTC
BEGIN:STANDARD
TZOFFSETFROM:+0000
TZOFFSETTO:+0000
TZNAME:UTC
DTSTART:20240101T000000
END:STANDARD
END:VTIMEZONE
BEGIN:VEVENT
DTSTART;TZID=UTC:20241219T203000
DTEND;TZID=UTC:20241219T203000
DTSTAMP:20260419T124137
CREATED:20241127T142010Z
LAST-MODIFIED:20241127T142102Z
UID:1525-1734640200-1734640200@tenniscarpena.com
SUMMARY:Torneo di Burraco di Natale
DESCRIPTION:Appuntamento Giovedì 19 Dicembre alle ore 20:30 con il tradizionale Torneo di Burraco di Natale. \n\n\nRicchi premi \n\nDolce intermezzo offerto dal Ristorante Sanderry\n\nSTRETTAMENTE SOCIALE\n\n\n> Info e prenotazioni in segreteria entro martedì 17 Dicembre
URL:https://tenniscarpena.com/evento/torneo-di-burraco-di-natale-3/
CATEGORIES:Ludico ricreativi
ATTACH;FMTTYPE=image/png:https://tenniscarpena.com/wp-content/uploads/2024/11/2.png
END:VEVENT
END:VCALENDAR